BEGIN:VCALENDAR
VERSION:2.0
PRODID:-//Unity of Phoenix Spiritual Center - ECPv6.15.20//NONSGML v1.0//EN
CALSCALE:GREGORIAN
METHOD:PUBLISH
X-WR-CALNAME:Unity of Phoenix Spiritual Center
X-ORIGINAL-URL:https://unityphx.org
X-WR-CALDESC:Events for Unity of Phoenix Spiritual Center
REFRESH-INTERVAL;VALUE=DURATION:PT1H
X-Robots-Tag:noindex
X-PUBLISHED-TTL:PT1H
BEGIN:VTIMEZONE
TZID:America/Phoenix
BEGIN:STANDARD
TZOFFSETFROM:-0700
TZOFFSETTO:-0700
TZNAME:MST
DTSTART:20250101T000000
END:STANDARD
END:VTIMEZONE
BEGIN:VEVENT
DTSTART;TZID=America/Phoenix:20260426T080000
DTEND;TZID=America/Phoenix:20260426T123000
DTSTAMP:20260420T014334
CREATED:20260111T013839Z
LAST-MODIFIED:20260326T064220Z
UID:10002816-1777190400-1777206600@unityphx.org
SUMMARY:Outreach: Blood Drive
DESCRIPTION:Donate Blood – Give the Gift of Life!\nSign Up: Two Sundays – April 12 and 19\nBlood Drive Day: Sunday\, April 26\nThe Vitalant Bloodmobile will be parked in our south unpaved parking lot.\nMake a powerful difference by donating blood at our April Blood Drive! More than 700 donors are needed every day to support Arizona patients\, and one donation can save up to four lives. \nThis is a simple\, compassionate way to live your values and serve our community. Please sign up and help us meet this vital need—your generosity truly saves lives! \nWho will need blood next? Maybe YOU! SIGN UP TO DONATE! \nSign up in our Courtyard or visit www.donors.vitalant.org (Blood Drive Code: P1X28) \n  \n  \n 
URL:https://unityphx.org/events/blood-drive/
LOCATION:Unity of Phoenix Spiritual Center\, 1500 E Greenway Parkway\, Phoenix\, AZ\, 85022-2725\, United States
CATEGORIES:Events,Outreach Events
ATTACH;FMTTYPE=image/jpeg:https://unityphx.org/wp-content/uploads/2026/01/Blood-Drive-April-26-2026.jpg
GEO:33.6384339;-112.0493411
X-APPLE-STRUCTURED-LOCATION;VALUE=URI;X-ADDRESS=Unity of Phoenix Spiritual Center 1500 E Greenway Parkway Phoenix AZ 85022-2725 United States;X-APPLE-RADIUS=500;X-TITLE=1500 E Greenway Parkway:geo:-112.0493411,33.6384339
END:VEVENT
BEGIN:VEVENT
DTSTART;TZID=America/Phoenix:20260503T090000
DTEND;TZID=America/Phoenix:20260503T130000
DTSTAMP:20260420T014334
CREATED:20260413T190553Z
LAST-MODIFIED:20260413T190812Z
UID:10002847-1777798800-1777813200@unityphx.org
SUMMARY:Food Drive to Help Feed Local Families (Sponsored by Our Small Groups Ministry)
DESCRIPTION:We’ll have collection bins for your nonperishable donations on:\nFour Sundays – May 3\, 10\, 17 & 24\nThree Wednesdays – May 6\, 13 & 20\nOur Small Groups Ministry is leading a month-long food drive for St. Vincent de Paul to help make a difference for people in need by helping to put food on their tables. During May\, we’ll have bins in the Courtyard before and after Sunday and Wednesday services where you can drop off nonperishable food items. Bring your donations and help us turn compassion into action! \nEvery can\, every box\, every act of generosity matters. Let’s share our abundance and remind our neighbors that they are not alone!
URL:https://unityphx.org/events/food-drive-to-help-feed-local-families-sponsored-by-our-small-groups-ministry/2026-05-03/
LOCATION:Unity of Phoenix Spiritual Center\, 1500 E Greenway Parkway\, Phoenix\, AZ\, 85022-2725\, United States
CATEGORIES:Events,Outreach Events
ATTACH;FMTTYPE=image/jpeg:https://unityphx.org/wp-content/uploads/2025/10/AdobeStock_742738582-scaled.jpeg
ORGANIZER;CN="Small Groups Ministry":MAILTO:smacrisros@unityphx.org
GEO:33.6384339;-112.0493411
X-APPLE-STRUCTURED-LOCATION;VALUE=URI;X-ADDRESS=Unity of Phoenix Spiritual Center 1500 E Greenway Parkway Phoenix AZ 85022-2725 United States;X-APPLE-RADIUS=500;X-TITLE=1500 E Greenway Parkway:geo:-112.0493411,33.6384339
END:VEVENT
END:VCALENDAR