BEGIN:VCALENDAR
VERSION:2.0
PRODID:-//Unity of Phoenix Spiritual Center - ECPv6.15.20//NONSGML v1.0//EN
CALSCALE:GREGORIAN
METHOD:PUBLISH
X-ORIGINAL-URL:https://unityphx.org
X-WR-CALDESC:Events for Unity of Phoenix Spiritual Center
REFRESH-INTERVAL;VALUE=DURATION:PT1H
X-Robots-Tag:noindex
X-PUBLISHED-TTL:PT1H
BEGIN:VTIMEZONE
TZID:America/Phoenix
BEGIN:STANDARD
TZOFFSETFROM:-0700
TZOFFSETTO:-0700
TZNAME:MST
DTSTART:20240101T000000
END:STANDARD
END:VTIMEZONE
BEGIN:VEVENT
DTSTART;TZID=America/Phoenix:20251005T110000
DTEND;TZID=America/Phoenix:20251005T120000
DTSTAMP:20260422T064417
CREATED:20250613T233407Z
LAST-MODIFIED:20250723T214723Z
UID:10002664-1759662000-1759665600@unityphx.org
SUMMARY:YFM: Animal Blessing and Petting Zoo
DESCRIPTION:Bless the beasts and the children! Remember to bring a photograph of your pet(s) so that we can bless them and give a very special prayer! Then help us bless the animals at the visiting petting zoo. \n(Children who attend 9am Children’s Classes will also have the photos of their pets blessed.)
URL:https://unityphx.org/events/yfm-animal-blessing-and-petting-zoo/
LOCATION:The YFM Playground at Unity of Phoenix Spiritual Center\, 1500 E Greenway Parkway\, Phoenix\, AZ\, 85022-2725\, United States
CATEGORIES:Events,In Person,Youth and Family Events
ATTACH;FMTTYPE=image/jpeg:https://unityphx.org/wp-content/uploads/2025/06/processed-40CCF17C-C95A-4CF7-8FDE-DFAF2AFF4A45-e1749857633223.jpeg
ORGANIZER;CN="Rev. Stacy Macris Ros":MAILTO:smacrisros@unityphx.org
END:VEVENT
END:VCALENDAR