BEGIN:VCALENDAR
VERSION:2.0
PRODID:-//Unity of Phoenix Spiritual Center - ECPv6.15.20//NONSGML v1.0//EN
CALSCALE:GREGORIAN
METHOD:PUBLISH
X-WR-CALNAME:Unity of Phoenix Spiritual Center
X-ORIGINAL-URL:https://unityphx.org
X-WR-CALDESC:Events for Unity of Phoenix Spiritual Center
REFRESH-INTERVAL;VALUE=DURATION:PT1H
X-Robots-Tag:noindex
X-PUBLISHED-TTL:PT1H
BEGIN:VTIMEZONE
TZID:America/Phoenix
BEGIN:STANDARD
TZOFFSETFROM:-0700
TZOFFSETTO:-0700
TZNAME:MST
DTSTART:20250101T000000
END:STANDARD
END:VTIMEZONE
BEGIN:VEVENT
DTSTART;TZID=America/Phoenix:20260501T180000
DTEND;TZID=America/Phoenix:20260501T220000
DTSTAMP:20260421T190936
CREATED:20260420T214455Z
LAST-MODIFIED:20260420T215700Z
UID:10002853-1777658400-1777672800@unityphx.org
SUMMARY:LGBTQ+ Rainbow Group Event: Dance Night
DESCRIPTION:Talking Stick Casino – Palo Verde Lounge\n9800 E. Talking Stick Way\nScottsdale\, AZ 85256 \nJoin us on the casino floor! Come out and get your dance on to the old-school R&B stylings of Silhouette band. \nDance the night away and make new friends\, or have a drink and connect with old ones! \nPlease RSVP to Aretha Frison.
URL:https://unityphx.org/events/lgbtq-rainbow-group-event-dance-night/
LOCATION:Palo Verde Lounge\, 9800 E. Talking Stick Way\, Scottsdale\, 85256\, United States
CATEGORIES:Events,In Person,Rainbow Group
ATTACH;FMTTYPE=image/jpeg:https://unityphx.org/wp-content/uploads/2026/04/dance-floor-scaled.jpg
ORGANIZER;CN="Group Leaders Mary Kelly and Aretha Frison":MAILTO:mkel1231@yahoo.com or aretha.frison@gmail.com
END:VEVENT
END:VCALENDAR