BEGIN:VCALENDAR
VERSION:2.0
PRODID:-//Unity of Phoenix Spiritual Center - ECPv6.15.20//NONSGML v1.0//EN
CALSCALE:GREGORIAN
METHOD:PUBLISH
X-WR-CALNAME:Unity of Phoenix Spiritual Center
X-ORIGINAL-URL:https://unityphx.org
X-WR-CALDESC:Events for Unity of Phoenix Spiritual Center
REFRESH-INTERVAL;VALUE=DURATION:PT1H
X-Robots-Tag:noindex
X-PUBLISHED-TTL:PT1H
BEGIN:VTIMEZONE
TZID:America/Phoenix
BEGIN:STANDARD
TZOFFSETFROM:-0700
TZOFFSETTO:-0700
TZNAME:MST
DTSTART:20240101T000000
END:STANDARD
END:VTIMEZONE
BEGIN:VEVENT
DTSTART;TZID=America/Phoenix:20250621T120000
DTEND;TZID=America/Phoenix:20250621T120000
DTSTAMP:20260422T070014
CREATED:20250512T224359Z
LAST-MODIFIED:20250609T194600Z
UID:10002390-1750507200-1750507200@unityphx.org
SUMMARY:NextGen Event: Board Game Day at Gamers Guild-North Phoenix
DESCRIPTION:Bring your game face and any board games you love to play and join us for a day full of laughs\, friendly competition and unforgettable fun. \nIf you plan to attend\, please RSVP to nextgen@unityphx.org so we know to look for you. Then let the games begin!
URL:https://unityphx.org/events/nextgen-event-game-night-for-young-adults/
LOCATION:Gamers Guild-North Phoenix\, 1818 W Bell Rd Suite 115\, Pheonix\, 85023\, United States
CATEGORIES:Events,In Person,NextGen
ATTACH;FMTTYPE=image/jpeg:https://unityphx.org/wp-content/uploads/2025/05/board-game-pieces.jpg
ORGANIZER;CN="NextGen Small Group for Young Adults in Their 20s%2C 30s and 40s":MAILTO:nextgen@unityphx.org
END:VEVENT
END:VCALENDAR