BEGIN:VCALENDAR
VERSION:2.0
PRODID:-//Unity of Phoenix Spiritual Center - ECPv6.15.20//NONSGML v1.0//EN
CALSCALE:GREGORIAN
METHOD:PUBLISH
X-ORIGINAL-URL:https://unityphx.org
X-WR-CALDESC:Events for Unity of Phoenix Spiritual Center
REFRESH-INTERVAL;VALUE=DURATION:PT1H
X-Robots-Tag:noindex
X-PUBLISHED-TTL:PT1H
BEGIN:VTIMEZONE
TZID:America/Phoenix
BEGIN:STANDARD
TZOFFSETFROM:-0700
TZOFFSETTO:-0700
TZNAME:MST
DTSTART:20250101T000000
END:STANDARD
END:VTIMEZONE
BEGIN:VEVENT
DTSTART;TZID=America/Phoenix:20260501T174500
DTEND;TZID=America/Phoenix:20260501T174500
DTSTAMP:20260420T044340
CREATED:20260415T193134Z
LAST-MODIFIED:20260415T193416Z
UID:10002852-1777657500-1777657500@unityphx.org
SUMMARY:Hiking Group Event: Moonlight Hike/Walk at Papago Park
DESCRIPTION:MOONLIGHT (FLOWER MOON) HIKE/WALK\, May 1st at Papago Park in Phoenix. \nWe will meet at Evelyn Hallman Park at 5:45 p.m. on Friday\, May 1st.  PLEASE arrive 15 minutes early.  From the park\, we’ll hike/walk around the ponds and up to Hunt’s Tomb (about 3 miles total) where there are 360 degree views of the city so we should be able to see the sunset and full moon from the same location and then return to the parking lot afterward.  The moon is supposed to peak earlier in the day.  The surface is paved and some of it is dirt/gravel so wear appropriate footwear.   IT IS ALL EASY!  A few easy inclines.  It’s recommended to bring a flashlight or headlamp\, although when the moon is full and shining brightly\, it is seldom needed.  Better to be safe with some light support.  Also\, it is still necessary to bring water. \nEvelyn Hallman’s parking lot address is 250 E Marigold Lane\, Tempe 85281.  We will meet at the pinkish gates. \nYOU MUST RSVP at least the day before.  If no hikers RSVP\, the hike will be cancelled\, so please make sure to RSVP either via email or text.  (RSVP to Adrian Reznik\, 602.904.1425 or arezzy123@gmail.com). If you text\, please identify yourself so Adrian knows who is texting and why.  ADRIAN WILL REPLY that your RSVP was received\, so if you don’t receive a confirmation\, try again. \nHike Leader Adrian Reznik will be wearing green hiking pants for easy identification.  Meet by the pinkish gates.
URL:https://unityphx.org/events/hiking-group-event-moonlight-hike-walk-at-papago-park/
LOCATION:Evelyn Hallman Park\, 250 E Marigold Lane\, Tempe\, 85281\, United States
CATEGORIES:Events,Hiking
ATTACH;FMTTYPE=image/jpeg:https://unityphx.org/wp-content/uploads/2026/04/Shaw-Butte-Full-Moon-Hike.jpg
ORGANIZER;CN="Adrian Reznik%2C Hiking Group":MAILTO:arezzy123@gmail.com
END:VEVENT
END:VCALENDAR