BEGIN:VCALENDAR
VERSION:2.0
PRODID:-//Unity of Phoenix Spiritual Center - ECPv6.15.20//NONSGML v1.0//EN
CALSCALE:GREGORIAN
METHOD:PUBLISH
X-WR-CALNAME:Unity of Phoenix Spiritual Center
X-ORIGINAL-URL:https://unityphx.org
X-WR-CALDESC:Events for Unity of Phoenix Spiritual Center
REFRESH-INTERVAL;VALUE=DURATION:PT1H
X-Robots-Tag:noindex
X-PUBLISHED-TTL:PT1H
BEGIN:VTIMEZONE
TZID:America/Phoenix
BEGIN:STANDARD
TZOFFSETFROM:-0700
TZOFFSETTO:-0700
TZNAME:MST
DTSTART:20250101T000000
END:STANDARD
END:VTIMEZONE
BEGIN:VEVENT
DTSTART;TZID=America/Phoenix:20260414T120000
DTEND;TZID=America/Phoenix:20260414T140000
DTSTAMP:20260422T042718
CREATED:20260305T221035Z
LAST-MODIFIED:20260324T204154Z
UID:10002833-1776168000-1776175200@unityphx.org
SUMMARY:April VIP Potluck Luncheon
DESCRIPTION:Our monthly VIP Luncheon is held on the 2nd Tuesday of each month (October-May) for Very Important People 55 or older\, who attend to enjoy fellowship and a special guest speaker or activity. \nIn April\, Unity of Phoenix Board Member Ronda Fisk will give a presentation: “Beyond Law and Order: Finding Divine Order in Court.” \nLasagna will be provided as the main course. Please bring a side dish or dessert to share!
URL:https://unityphx.org/events/march-vip-potluck-luncheon/
LOCATION:Unity of Phoenix Spiritual Center\, 1500 E Greenway Parkway\, Phoenix\, AZ\, 85022-2725\, United States
CATEGORIES:Events,In Person,Unity Community Events
ATTACH;FMTTYPE=image/png:https://unityphx.org/wp-content/uploads/2026/03/April-VIP-Luncheon.png
ORGANIZER;CN="Robin Wilson":MAILTO:rwilson@unityphx.org
GEO:33.6384339;-112.0493411
X-APPLE-STRUCTURED-LOCATION;VALUE=URI;X-ADDRESS=Unity of Phoenix Spiritual Center 1500 E Greenway Parkway Phoenix AZ 85022-2725 United States;X-APPLE-RADIUS=500;X-TITLE=1500 E Greenway Parkway:geo:-112.0493411,33.6384339
END:VEVENT
END:VCALENDAR