BEGIN:VCALENDAR
VERSION:2.0
PRODID:-//Unity of Phoenix Spiritual Center - ECPv6.15.20//NONSGML v1.0//EN
CALSCALE:GREGORIAN
METHOD:PUBLISH
X-WR-CALNAME:Unity of Phoenix Spiritual Center
X-ORIGINAL-URL:https://unityphx.org
X-WR-CALDESC:Events for Unity of Phoenix Spiritual Center
REFRESH-INTERVAL;VALUE=DURATION:PT1H
X-Robots-Tag:noindex
X-PUBLISHED-TTL:PT1H
BEGIN:VTIMEZONE
TZID:America/Phoenix
BEGIN:STANDARD
TZOFFSETFROM:-0700
TZOFFSETTO:-0700
TZNAME:MST
DTSTART:20240101T000000
END:STANDARD
END:VTIMEZONE
BEGIN:VEVENT
DTSTART;TZID=America/Phoenix:20250201T090000
DTEND;TZID=America/Phoenix:20250201T090000
DTSTAMP:20260422T084257
CREATED:20250127T215550Z
LAST-MODIFIED:20250127T215550Z
UID:10002310-1738400400-1738400400@unityphx.org
SUMMARY:Unity Hiking Group: Great Horned Owl Loop
DESCRIPTION:Saturday\, February 1st – De La Cruz Residence to Great Horned Owl Loop \nDate/Time: Saturday\, February 1\, 2025 Meet at the De La Cruzes at 9:00am \nHike Leader: Laurie De La Cruz\, please RSVP to groundy@ecorridor.com \nArea: Union Hills \nTrail Name: Great Horned Owl \nMap: (see below) \nDistance: 4.75 miles \nElevation Change: 600’ \nDifficulty: Moderate \nAddress/Directions: We will start at the home of Frank & Laurie De La Cruz – 26008 N 11th Ave\, Phoenix  85085 \nNorth on 5th Ave from Happy Valley.  Go .8 miles and turn left on Briles. Go .2 miles and turn left on 11th Ave. (“11 Av” sign on telephone pole).  Go south .1 mile.  Go absolutely straight instead of following the slight left of the black top; turn right onto the dirt road (“26008” sign on the fence).  That road dead ends at Laurie and Frank’s house. \nHike Description: The Great Horned Owl trail makes a big loop around Union Peak. The first part of the loop has a few stretches that are pretty steep and fairly rocky as it climbs along the north side of the peak. \n(Optional – TBD when we get to this point – After reaching the Union Peak Trail (UP) – a nice 1/2 mile side trip with several steep switchbacks to the summit. You’re rewarded with excellent views of Deer Valley and in all directions. There is also a book to sign at the summit).  From the Union Peak trail\, the trail drops a couple of hundred feet and loops around the southside of Union Peak. Views of the neighborhoods to the south and east are seen as the trail moderates and winds back and forth around the peak. Don’t be fooled however\, it still has lots of ups and downs through numerous washes as you round the southwest side of Union Peak. \nDogs: Welcome on a leash
URL:https://unityphx.org/events/unity-hiking-group-great-horned-owl-loop/
LOCATION:Great Horned Owl Loop\, Meet at Frank & Laurie De La Cruz Home: 26008 N 11th Ave.\, Phoenix\, AZ\, 85085\, United States
CATEGORIES:Events,Hiking,In Person
ATTACH;FMTTYPE=image/jpeg:https://unityphx.org/wp-content/uploads/2025/01/great-horned-owl-loop.jpg
ORGANIZER;CN="Laurie De La Cruz":MAILTO:RSVP to groundy@ecorridor.com
END:VEVENT
END:VCALENDAR