BEGIN:VCALENDAR
VERSION:2.0
PRODID:-//Unity of Phoenix Spiritual Center - ECPv6.15.20//NONSGML v1.0//EN
CALSCALE:GREGORIAN
METHOD:PUBLISH
X-WR-CALNAME:Unity of Phoenix Spiritual Center
X-ORIGINAL-URL:https://unityphx.org
X-WR-CALDESC:Events for Unity of Phoenix Spiritual Center
REFRESH-INTERVAL;VALUE=DURATION:PT1H
X-Robots-Tag:noindex
X-PUBLISHED-TTL:PT1H
BEGIN:VTIMEZONE
TZID:America/Phoenix
BEGIN:STANDARD
TZOFFSETFROM:-0700
TZOFFSETTO:-0700
TZNAME:MST
DTSTART:20250101T000000
END:STANDARD
END:VTIMEZONE
BEGIN:VEVENT
DTSTART;TZID=America/Phoenix:20260320T193000
DTEND;TZID=America/Phoenix:20260320T210000
DTSTAMP:20260421T010706
CREATED:20250609T075409Z
LAST-MODIFIED:20260227T225611Z
UID:10002636-1774035000-1774040400@unityphx.org
SUMMARY:Out & About with Rev. Maraj: "SIX" at Gammage (Friday Evening Performance)
DESCRIPTION:Deadline to purchase tickets: February 15\, 2026.\nDivorced\, beheaded\, died\, divorced\, beheaded\, survived. \nFrom Tudor Queens to Pop Icons\, the SIX wives of Henry VIII take the microphone to remix five hundred years of historical heartbreak into a Euphoric Celebration of 21st century girl power! \nJoin Rev. Maraj for this new original musical is the global sensation that everyone is losing their head over! “SIX”won 23 awards in the 2021/2022 Broadway season\, including the Tony Award® for Best Original Score (Music and Lyrics) and the Outer Critics Circle Award for Best Musical. \nThe New York Times says SIX “TOTALLY RULES!” (Critic’s Pick) and The Washington Post hails SIX as “Exactly the kind of energizing\, inspirational illumination this town aches for!” \nThe SIX: LIVE ON OPENING NIGHT Broadway album debuted at Number 1 on the Billboard cast album charts and surpassed 6 Million streams in its first month. \nNOTE: The confirmation you receive when purchasing these tickets is NOT your ticket into the venue. Once the sales deadline closes\, we will receive hard copy tickets that you can pick up in our on-campus Divine Idea Bookstore. We will email you when they are available for pick-up. \nIf you want a sense of where we’ll be sitting\, click HERE to see the Gammage seating chart. Our seats will be located in Rows 3-8\, ranging from Seats 41-55. They are very close to the stage\, but pretty far to the left … but\, in my opinion\, absolutely FABULOUS seats! \nAlso\, for those who do not drive at night\, we have secured an additional group performance on Saturday\, March 21\, at 2pm with the same discounted pricing. Rev. Maraj\, however\, will ONLY be attending the Friday evening performance. Click HERE for Saturday matinee tickets.
URL:https://unityphx.org/events/theatre-lovers-group-six-at-gammage-friday-evening-performance/
LOCATION:ASU Gammage\, 1200 S. Forest Avenue\, Tempe\, 85281\, United States
CATEGORIES:Out & About with the Ministers,Theater Lovers
ATTACH;FMTTYPE=image/jpeg:https://unityphx.org/wp-content/uploads/2025/06/SIX.jpg
ORGANIZER;CN="Sue Thompson":MAILTO:sthompson@unityphx.org
END:VEVENT
END:VCALENDAR