BEGIN:VCALENDAR
VERSION:2.0
PRODID:-//Unity of Phoenix Spiritual Center - ECPv6.15.20//NONSGML v1.0//EN
CALSCALE:GREGORIAN
METHOD:PUBLISH
X-ORIGINAL-URL:https://unityphx.org
X-WR-CALDESC:Events for Unity of Phoenix Spiritual Center
REFRESH-INTERVAL;VALUE=DURATION:PT1H
X-Robots-Tag:noindex
X-PUBLISHED-TTL:PT1H
BEGIN:VTIMEZONE
TZID:America/Phoenix
BEGIN:STANDARD
TZOFFSETFROM:-0700
TZOFFSETTO:-0700
TZNAME:MST
DTSTART:20240101T000000
END:STANDARD
END:VTIMEZONE
BEGIN:VEVENT
DTSTART;TZID=America/Phoenix:20251222T190000
DTEND;TZID=America/Phoenix:20251222T220000
DTSTAMP:20260421T051516
CREATED:20250609T084511Z
LAST-MODIFIED:20251202T064702Z
UID:10002638-1766430000-1766440800@unityphx.org
SUMMARY:Theatre Lovers Group Event: "A Christmas Carol" at Phoenix Theatre (Monday Evening Performance)
DESCRIPTION:Deadline to Purchase Tickets: Extended to Sunday\, Dec. 7\, 2025\nA joyous musical extravaganza with a legacy that continues to inspire. \nOne of our all-time favorite Unity of Phoenix soloists — Rusty Ferracane — stars as Scrooge in this story of redemption\, second chances\, and the power of human kindness. (We found out a bit late that Rusty was starring in this show\, so the best option for a good block of seats at an affordable price turned out to be a Monday evening. But that Monday is on December 22 … so we think it’s the perfect way to kick off Christmas week!) \nA Christmas Carol is a musical journey through the heart of one man’s transformation. On one fateful Christmas Eve\, Ebenezer Scrooge is visited by three ghosts who guide him through his Past\, Present\, and Future\, leading him to discover the true spirit of Christmas. Featuring a stirring score by The Phoenix Theatre Company’s late Music Director\, Alan Ruch\, and direction by Matthew Wiener\, who helmed A Christmas Carol at Actors Theatre for 19 years\, this production continues a beloved holiday tradition. Celebrate nearly two decades of magic\, music\, and storytelling in this cherished classic! \nNOTE: The confirmation you receive when purchasing these tickets is NOT your ticket into the venue. Once the sales deadline closes\, we will receive hard copy tickets that you can pick up in our on-campus Divine Idea Bookstore. We will email you when they are available for pick-up. \nIf you want a sense of where we’ll be sitting\, click HERE to see the seating maps at Phoenix Theatre. This production will be in the Stephensen Theatre. Our seats will be the Tier 2 Seats in Rows F-K (on both sides of the theatre). \n 
URL:https://unityphx.org/events/theatre-lovers-group-a-christmas-carol-at-phoenix-theatre-monday-evening-performance/
LOCATION:The Phoenix Theatre Company\, 1825 N. Central Avenue\, Phoenix\, AZ\, 85004\, United States
CATEGORIES:Theater Lovers
ATTACH;FMTTYPE=image/jpeg:https://unityphx.org/wp-content/uploads/2025/06/A-Christmas-Carol.jpg
ORGANIZER;CN="Sue Thompson":MAILTO:sthompson@unityphx.org
END:VEVENT
END:VCALENDAR