BEGIN:VCALENDAR
VERSION:2.0
PRODID:-//Unity of Phoenix Spiritual Center - ECPv6.15.20//NONSGML v1.0//EN
CALSCALE:GREGORIAN
METHOD:PUBLISH
X-ORIGINAL-URL:https://unityphx.org
X-WR-CALDESC:Events for Unity of Phoenix Spiritual Center
REFRESH-INTERVAL;VALUE=DURATION:PT1H
X-Robots-Tag:noindex
X-PUBLISHED-TTL:PT1H
BEGIN:VTIMEZONE
TZID:America/Phoenix
BEGIN:STANDARD
TZOFFSETFROM:-0700
TZOFFSETTO:-0700
TZNAME:MST
DTSTART:20240101T000000
END:STANDARD
END:VTIMEZONE
BEGIN:VEVENT
DTSTART;TZID=America/Phoenix:20251004T133000
DTEND;TZID=America/Phoenix:20251004T163000
DTSTAMP:20260421T084309
CREATED:20250723T204410Z
LAST-MODIFIED:20250921T164353Z
UID:10002680-1759584600-1759595400@unityphx.org
SUMMARY:Theatre Lovers Group Outing: "Frozen" at Phoenix Theatre
DESCRIPTION:Deadline for purchasing has been extended until all are sold\nThe award-winning Broadway sensation based on the hit Disney film\, Frozen is a magical experience that reminds us all that love is what truly thaws the coldest heart.\nThey’ve promised that this production will have jaw-dropping effects made possible through the theatre’s incredible state-of-the-art technology. Whether you’ve seen the movie or are falling in love for the first time\, this stage version is packed with new surprises\, dazzling visuals\, and the kind of theatrical magic that only happens live in a magnificent theatre like this! \nNOTE: The confirmation you receive when purchasing these tickets is NOT your ticket into the venue. Once the sales deadline closes\, we will receive hard copy tickets that you can pick up in our on-campus Divine Idea Bookstore. We will email you when they are available for pick-up. \nIf you want a sense of where we’ll be sitting\, click HERE to see the seating maps at Phoenix Theatre. This production will be in the Stephensen Theatre. Our seats will be the Tier 2 Seats in Rows F-J.
URL:https://unityphx.org/events/theatre-lovers-group-outing-frozen-at-phoenix-theatre/
LOCATION:The Phoenix Theatre Company\, 1825 N. Central Avenue\, Phoenix\, AZ\, 85004\, United States
CATEGORIES:Events,In Person,Theater Lovers
ATTACH;FMTTYPE=image/jpeg:https://unityphx.org/wp-content/uploads/2025/07/frozen.jpg
ORGANIZER;CN="Sue Thompson":MAILTO:sthompson@unityphx.org
END:VEVENT
BEGIN:VEVENT
DTSTART;TZID=America/Phoenix:20251016T120000
DTEND;TZID=America/Phoenix:20251016T160000
DTSTAMP:20260421T084309
CREATED:20250702T101543Z
LAST-MODIFIED:20250929T221040Z
UID:10002675-1760616000-1760630400@unityphx.org
SUMMARY:Theatre Lovers Group Outing: "Newsies" at the Arizona Broadway Theatre
DESCRIPTION:Deadline to Purchase: Sunday\, Sept. 14\nDisney’s Newsies: The Musical is an electrifying\, high-energy spectacle inspired by true events! Set in 1899 New York City\, it follows Jack Kelly\, a charismatic newsboy with dreams of a better life. When publishing titans raise newspaper prices at the expense of the newsboys\, Jack and the “newsies” rise up to fight for justice. \nWith thrilling dance numbers\, an unforgettable score by Alan Menken with showstoppers like “King of New York” and “Seize the Day”\, Newsies is an inspiring tale of resilience\, friendship\, and the power of standing up for what is right! \nOur discounted $80 group tickets include a delicious lunch before the show! Lunch is served at Noon; the musical follows at 2 p.m.
URL:https://unityphx.org/events/theatre-lovers-group-newsies-at-the-arizona-broadway-theatre/
LOCATION:Arizona Broadway Theatre\, 7701 West Paradise Lane\, Peoria\, 85382\, United States
CATEGORIES:Events,Theater Lovers
ATTACH;FMTTYPE=image/jpeg:https://unityphx.org/wp-content/uploads/2025/07/Newsies.jpg
ORGANIZER;CN="Sue Thompson":MAILTO:sthompson@unityphx.org
END:VEVENT
END:VCALENDAR