BEGIN:VCALENDAR
VERSION:2.0
PRODID:-//Unity of Phoenix Spiritual Center - ECPv6.15.20//NONSGML v1.0//EN
CALSCALE:GREGORIAN
METHOD:PUBLISH
X-ORIGINAL-URL:https://unityphx.org
X-WR-CALDESC:Events for Unity of Phoenix Spiritual Center
REFRESH-INTERVAL;VALUE=DURATION:PT1H
X-Robots-Tag:noindex
X-PUBLISHED-TTL:PT1H
BEGIN:VTIMEZONE
TZID:America/Phoenix
BEGIN:STANDARD
TZOFFSETFROM:-0700
TZOFFSETTO:-0700
TZNAME:MST
DTSTART:20240101T000000
END:STANDARD
END:VTIMEZONE
BEGIN:VEVENT
DTSTART;TZID=America/Phoenix:20250615T193000
DTEND;TZID=America/Phoenix:20250615T223000
DTSTAMP:20260421T151602
CREATED:20250421T210858Z
LAST-MODIFIED:20250613T211803Z
UID:10002372-1750015800-1750026600@unityphx.org
SUMMARY:Theater Lovers Small Group Event: "Forbidden Broadway"
DESCRIPTION:This production is Music Directed by Steve Hilderbrand! \nAre you ready to get whisked away on a delightfully cheeky romp through the world of musicals? Forbidden Broadway takes no prisoners as it skewers the beloved clichés\, idiosyncrasies\, and over-the-top moments that have become signatures of Broadway’s biggest hits. \nFrom soaring revolutionary anthems to the heart-wrenching ballads of contemporary classics\, no musical is safe from the clever lampoons and spot-on impersonations delivered with razor-sharp wit. Seasoned theatre aficionados and newcomers alike will find themselves doubled over at the astute observations and biting humor\, affectionately poking fun at the excesses and conventions of the art form we love. \nBeyond just a fast-paced laugh fest\, this vaudeville-esque experience offers thoughtful social commentary set to side-splitting musical parodies\, reminding us that even amidst the grandeur of the theatre’s most revered works\, there’s room for self-deprecating levity and a wink at our own theatrical extravagances. \nNote: Sorry! We couldn’t snag a matinee show because those performances were already mostly sold out\, causing ticket prices to be much higher. \nThese tickets are located in Rows G and H at the back of the Hardes Theatre. In this small theatre\, they will still provide a great view and experience!
URL:https://unityphx.org/events/theater-lovers-small-group-event-forbidden-broadway/
LOCATION:The Phoenix Theatre Company\, 1825 N. Central Avenue\, Phoenix\, AZ\, 85004\, United States
CATEGORIES:Events,In Person,Theater Lovers
ATTACH;FMTTYPE=image/jpeg:https://unityphx.org/wp-content/uploads/2025/04/1600x500_web-banner_Forbidden_4-1536x480-1.jpg
ORGANIZER;CN="Sue Thompson":MAILTO:sthompson@unityphx.org
END:VEVENT
END:VCALENDAR