BEGIN:VCALENDAR
VERSION:2.0
PRODID:-//Unity of Phoenix Spiritual Center - ECPv6.15.20//NONSGML v1.0//EN
CALSCALE:GREGORIAN
METHOD:PUBLISH
X-WR-CALNAME:Unity of Phoenix Spiritual Center
X-ORIGINAL-URL:https://unityphx.org
X-WR-CALDESC:Events for Unity of Phoenix Spiritual Center
REFRESH-INTERVAL;VALUE=DURATION:PT1H
X-Robots-Tag:noindex
X-PUBLISHED-TTL:PT1H
BEGIN:VTIMEZONE
TZID:America/Phoenix
BEGIN:STANDARD
TZOFFSETFROM:-0700
TZOFFSETTO:-0700
TZNAME:MST
DTSTART:20250101T000000
END:STANDARD
END:VTIMEZONE
BEGIN:VEVENT
DTSTART;TZID=America/Phoenix:20260613T120000
DTEND;TZID=America/Phoenix:20260613T140000
DTSTAMP:20260422T001820
CREATED:20260421T000549Z
LAST-MODIFIED:20260421T001208Z
UID:10002857-1781352000-1781359200@unityphx.org
SUMMARY:LGBTQ+ Rainbow Group Event: Feed My Starving Children Outreach
DESCRIPTION:Take time out from your busy schedule to make hand-packed meals for children in third-world countries. \nThis is an upbeat and fun atmosphere in which we can put some light out into the world! \nRSVP to Aretha Frison to hold your spot!
URL:https://unityphx.org/events/lgbtq-rainbow-group-event-feed-my-starving-children-outreach/
LOCATION:Feed My Starving Family Packing Plant\, 1100 West Grove Parkway\, Tempe\, 85283\, United States
CATEGORIES:Events,In Person,Rainbow Group
ATTACH;FMTTYPE=image/jpeg:https://unityphx.org/wp-content/uploads/2025/07/Feed-My-Starving-Children.jpg
ORGANIZER;CN="Group Leaders Mary Kelly and Aretha Frison":MAILTO:mkel1231@yahoo.com or aretha.frison@gmail.com
END:VEVENT
END:VCALENDAR