BEGIN:VCALENDAR
VERSION:2.0
PRODID:-//Unity of Phoenix Spiritual Center - ECPv6.15.20//NONSGML v1.0//EN
CALSCALE:GREGORIAN
METHOD:PUBLISH
X-ORIGINAL-URL:https://unityphx.org
X-WR-CALDESC:Events for Unity of Phoenix Spiritual Center
REFRESH-INTERVAL;VALUE=DURATION:PT1H
X-Robots-Tag:noindex
X-PUBLISHED-TTL:PT1H
BEGIN:VTIMEZONE
TZID:America/Phoenix
BEGIN:STANDARD
TZOFFSETFROM:-0700
TZOFFSETTO:-0700
TZNAME:MST
DTSTART:20240101T000000
END:STANDARD
END:VTIMEZONE
BEGIN:VEVENT
DTSTART;TZID=America/Phoenix:20251109T090000
DTEND;TZID=America/Phoenix:20251109T130000
DTSTAMP:20260421T010913
CREATED:20251030T204809Z
LAST-MODIFIED:20251113T075314Z
UID:10002773-1762678800-1762693200@unityphx.org
SUMMARY:Food Drive to Help Feed Local Families
DESCRIPTION:We’ll have collection bins for your nonperishable donations on:\nFour Sundays – Nov. 9\, 16\, 23 & 30\nThree Wednesdays – Nov. 12\, 19 & 26\nClick on the Flyer-Food Drive (November 2025) to view a list of the most needed items. \nMore and more families are struggling right now. Together\, we can make a difference for them by helping to put food on their tables. During November\, we’re teaming with a nearby local food bank\, Mom’s Pantry\, to collect nonperishable food items. Bring your donations to the collection bins in our Courtyard and help us turn compassion into action! \nEvery can\, every box\, every act of generosity matters. Let’s share our abundance and remind our neighbors that they are not alone!
URL:https://unityphx.org/events/food-drive-to-help-feed-local-families/2025-11-09/
LOCATION:Unity of Phoenix Spiritual Center\, 1500 E Greenway Parkway\, Phoenix\, AZ\, 85022-2725\, United States
CATEGORIES:Events,Holiday Events,Outreach Events
ATTACH;FMTTYPE=image/jpeg:https://unityphx.org/wp-content/uploads/2025/10/AdobeStock_742738582-scaled.jpeg
ORGANIZER;CN="Sue Thompson":MAILTO:sthompson@unityphx.org
GEO:33.6384339;-112.0493411
X-APPLE-STRUCTURED-LOCATION;VALUE=URI;X-ADDRESS=Unity of Phoenix Spiritual Center 1500 E Greenway Parkway Phoenix AZ 85022-2725 United States;X-APPLE-RADIUS=500;X-TITLE=1500 E Greenway Parkway:geo:-112.0493411,33.6384339
END:VEVENT
BEGIN:VEVENT
DTSTART;TZID=America/Phoenix:20251109T100000
DTEND;TZID=America/Phoenix:20251109T130000
DTSTAMP:20260421T010913
CREATED:20251030T205256Z
LAST-MODIFIED:20251030T211204Z
UID:10002775-1762682400-1762693200@unityphx.org
SUMMARY:Gift Drive for Teens in Foster Care Group Homes
DESCRIPTION:Our Gift Tree will be in the Courtyard on the following days:\nThree Sundays – Nov. 9\, 16 & 23\nTwo Wednesdays – Nov. 12 & 19\nThis holiday season\, we’re partnering with OCJ Kids to bring joy to teens who are currently living in foster care group homes. We are sponsoring 104 teens (ages 12-17) who have each shared one modest gift they’d like to have for Christmas — and you can make their wishes come true! \nVisit our Christmas Gift Tree in the Courtyard\, choose a gift (or two)\, and shop for the gift listed. (OCJ recommends spending between $25–$35 per gift.) Return your unwrapped gift to the Outreach Table no later than Sunday\, Nov. 30. \nEvery gift you provide will light up a young person’s holiday — and remind them that they are seen\, valued and loved.
URL:https://unityphx.org/events/gift-drive-for-teens-in-foster-care-group-homes/2025-11-09/
LOCATION:Unity of Phoenix Spiritual Center\, 1500 E Greenway Parkway\, Phoenix\, AZ\, 85022-2725\, United States
CATEGORIES:Events,Holiday Events,Outreach Events
ATTACH;FMTTYPE=image/png:https://unityphx.org/wp-content/uploads/2025/10/Photo-of-Kids.png
ORGANIZER;CN="Sue Thompson":MAILTO:sthompson@unityphx.org
GEO:33.6384339;-112.0493411
X-APPLE-STRUCTURED-LOCATION;VALUE=URI;X-ADDRESS=Unity of Phoenix Spiritual Center 1500 E Greenway Parkway Phoenix AZ 85022-2725 United States;X-APPLE-RADIUS=500;X-TITLE=1500 E Greenway Parkway:geo:-112.0493411,33.6384339
END:VEVENT
BEGIN:VEVENT
DTSTART;TZID=America/Phoenix:20251112T183000
DTEND;TZID=America/Phoenix:20251112T203000
DTSTAMP:20260421T010913
CREATED:20251030T205256Z
LAST-MODIFIED:20251030T211204Z
UID:10002776-1762972200-1762979400@unityphx.org
SUMMARY:Gift Drive for Teens in Foster Care Group Homes
DESCRIPTION:Our Gift Tree will be in the Courtyard on the following days:\nThree Sundays – Nov. 9\, 16 & 23\nTwo Wednesdays – Nov. 12 & 19\nThis holiday season\, we’re partnering with OCJ Kids to bring joy to teens who are currently living in foster care group homes. We are sponsoring 104 teens (ages 12-17) who have each shared one modest gift they’d like to have for Christmas — and you can make their wishes come true! \nVisit our Christmas Gift Tree in the Courtyard\, choose a gift (or two)\, and shop for the gift listed. (OCJ recommends spending between $25–$35 per gift.) Return your unwrapped gift to the Outreach Table no later than Sunday\, Nov. 30. \nEvery gift you provide will light up a young person’s holiday — and remind them that they are seen\, valued and loved.
URL:https://unityphx.org/events/gift-drive-for-teens-in-foster-care-group-homes/2025-11-12/
LOCATION:Unity of Phoenix Spiritual Center\, 1500 E Greenway Parkway\, Phoenix\, AZ\, 85022-2725\, United States
CATEGORIES:Events,Holiday Events,Outreach Events
ATTACH;FMTTYPE=image/png:https://unityphx.org/wp-content/uploads/2025/10/Photo-of-Kids.png
ORGANIZER;CN="Sue Thompson":MAILTO:sthompson@unityphx.org
GEO:33.6384339;-112.0493411
X-APPLE-STRUCTURED-LOCATION;VALUE=URI;X-ADDRESS=Unity of Phoenix Spiritual Center 1500 E Greenway Parkway Phoenix AZ 85022-2725 United States;X-APPLE-RADIUS=500;X-TITLE=1500 E Greenway Parkway:geo:-112.0493411,33.6384339
END:VEVENT
BEGIN:VEVENT
DTSTART;TZID=America/Phoenix:20251116T090000
DTEND;TZID=America/Phoenix:20251116T130000
DTSTAMP:20260421T010913
CREATED:20251030T204809Z
LAST-MODIFIED:20251113T075314Z
UID:10002792-1763283600-1763298000@unityphx.org
SUMMARY:Food Drive to Help Feed Local Families
DESCRIPTION:We’ll have collection bins for your nonperishable donations on:\nFour Sundays – Nov. 9\, 16\, 23 & 30\nThree Wednesdays – Nov. 12\, 19 & 26\nClick on the Flyer-Food Drive (November 2025) to view a list of the most needed items. \nMore and more families are struggling right now. Together\, we can make a difference for them by helping to put food on their tables. During November\, we’re teaming with a nearby local food bank\, Mom’s Pantry\, to collect nonperishable food items. Bring your donations to the collection bins in our Courtyard and help us turn compassion into action! \nEvery can\, every box\, every act of generosity matters. Let’s share our abundance and remind our neighbors that they are not alone!
URL:https://unityphx.org/events/food-drive-to-help-feed-local-families/2025-11-16/
LOCATION:Unity of Phoenix Spiritual Center\, 1500 E Greenway Parkway\, Phoenix\, AZ\, 85022-2725\, United States
CATEGORIES:Events,Holiday Events,Outreach Events
ATTACH;FMTTYPE=image/jpeg:https://unityphx.org/wp-content/uploads/2025/10/AdobeStock_742738582-scaled.jpeg
ORGANIZER;CN="Sue Thompson":MAILTO:sthompson@unityphx.org
GEO:33.6384339;-112.0493411
X-APPLE-STRUCTURED-LOCATION;VALUE=URI;X-ADDRESS=Unity of Phoenix Spiritual Center 1500 E Greenway Parkway Phoenix AZ 85022-2725 United States;X-APPLE-RADIUS=500;X-TITLE=1500 E Greenway Parkway:geo:-112.0493411,33.6384339
END:VEVENT
BEGIN:VEVENT
DTSTART;TZID=America/Phoenix:20251116T100000
DTEND;TZID=America/Phoenix:20251116T130000
DTSTAMP:20260421T010913
CREATED:20251030T205256Z
LAST-MODIFIED:20251030T211204Z
UID:10002777-1763287200-1763298000@unityphx.org
SUMMARY:Gift Drive for Teens in Foster Care Group Homes
DESCRIPTION:Our Gift Tree will be in the Courtyard on the following days:\nThree Sundays – Nov. 9\, 16 & 23\nTwo Wednesdays – Nov. 12 & 19\nThis holiday season\, we’re partnering with OCJ Kids to bring joy to teens who are currently living in foster care group homes. We are sponsoring 104 teens (ages 12-17) who have each shared one modest gift they’d like to have for Christmas — and you can make their wishes come true! \nVisit our Christmas Gift Tree in the Courtyard\, choose a gift (or two)\, and shop for the gift listed. (OCJ recommends spending between $25–$35 per gift.) Return your unwrapped gift to the Outreach Table no later than Sunday\, Nov. 30. \nEvery gift you provide will light up a young person’s holiday — and remind them that they are seen\, valued and loved.
URL:https://unityphx.org/events/gift-drive-for-teens-in-foster-care-group-homes/2025-11-16/
LOCATION:Unity of Phoenix Spiritual Center\, 1500 E Greenway Parkway\, Phoenix\, AZ\, 85022-2725\, United States
CATEGORIES:Events,Holiday Events,Outreach Events
ATTACH;FMTTYPE=image/png:https://unityphx.org/wp-content/uploads/2025/10/Photo-of-Kids.png
ORGANIZER;CN="Sue Thompson":MAILTO:sthompson@unityphx.org
GEO:33.6384339;-112.0493411
X-APPLE-STRUCTURED-LOCATION;VALUE=URI;X-ADDRESS=Unity of Phoenix Spiritual Center 1500 E Greenway Parkway Phoenix AZ 85022-2725 United States;X-APPLE-RADIUS=500;X-TITLE=1500 E Greenway Parkway:geo:-112.0493411,33.6384339
END:VEVENT
BEGIN:VEVENT
DTSTART;TZID=America/Phoenix:20251119T183000
DTEND;TZID=America/Phoenix:20251119T203000
DTSTAMP:20260421T010913
CREATED:20251030T204809Z
LAST-MODIFIED:20251113T075314Z
UID:10002793-1763577000-1763584200@unityphx.org
SUMMARY:Food Drive to Help Feed Local Families
DESCRIPTION:We’ll have collection bins for your nonperishable donations on:\nFour Sundays – Nov. 9\, 16\, 23 & 30\nThree Wednesdays – Nov. 12\, 19 & 26\nClick on the Flyer-Food Drive (November 2025) to view a list of the most needed items. \nMore and more families are struggling right now. Together\, we can make a difference for them by helping to put food on their tables. During November\, we’re teaming with a nearby local food bank\, Mom’s Pantry\, to collect nonperishable food items. Bring your donations to the collection bins in our Courtyard and help us turn compassion into action! \nEvery can\, every box\, every act of generosity matters. Let’s share our abundance and remind our neighbors that they are not alone!
URL:https://unityphx.org/events/food-drive-to-help-feed-local-families/2025-11-19/
LOCATION:Unity of Phoenix Spiritual Center\, 1500 E Greenway Parkway\, Phoenix\, AZ\, 85022-2725\, United States
CATEGORIES:Events,Holiday Events,Outreach Events
ATTACH;FMTTYPE=image/jpeg:https://unityphx.org/wp-content/uploads/2025/10/AdobeStock_742738582-scaled.jpeg
ORGANIZER;CN="Sue Thompson":MAILTO:sthompson@unityphx.org
GEO:33.6384339;-112.0493411
X-APPLE-STRUCTURED-LOCATION;VALUE=URI;X-ADDRESS=Unity of Phoenix Spiritual Center 1500 E Greenway Parkway Phoenix AZ 85022-2725 United States;X-APPLE-RADIUS=500;X-TITLE=1500 E Greenway Parkway:geo:-112.0493411,33.6384339
END:VEVENT
BEGIN:VEVENT
DTSTART;TZID=America/Phoenix:20251119T183000
DTEND;TZID=America/Phoenix:20251119T203000
DTSTAMP:20260421T010913
CREATED:20251030T205256Z
LAST-MODIFIED:20251030T211204Z
UID:10002778-1763577000-1763584200@unityphx.org
SUMMARY:Gift Drive for Teens in Foster Care Group Homes
DESCRIPTION:Our Gift Tree will be in the Courtyard on the following days:\nThree Sundays – Nov. 9\, 16 & 23\nTwo Wednesdays – Nov. 12 & 19\nThis holiday season\, we’re partnering with OCJ Kids to bring joy to teens who are currently living in foster care group homes. We are sponsoring 104 teens (ages 12-17) who have each shared one modest gift they’d like to have for Christmas — and you can make their wishes come true! \nVisit our Christmas Gift Tree in the Courtyard\, choose a gift (or two)\, and shop for the gift listed. (OCJ recommends spending between $25–$35 per gift.) Return your unwrapped gift to the Outreach Table no later than Sunday\, Nov. 30. \nEvery gift you provide will light up a young person’s holiday — and remind them that they are seen\, valued and loved.
URL:https://unityphx.org/events/gift-drive-for-teens-in-foster-care-group-homes/2025-11-19/
LOCATION:Unity of Phoenix Spiritual Center\, 1500 E Greenway Parkway\, Phoenix\, AZ\, 85022-2725\, United States
CATEGORIES:Events,Holiday Events,Outreach Events
ATTACH;FMTTYPE=image/png:https://unityphx.org/wp-content/uploads/2025/10/Photo-of-Kids.png
ORGANIZER;CN="Sue Thompson":MAILTO:sthompson@unityphx.org
GEO:33.6384339;-112.0493411
X-APPLE-STRUCTURED-LOCATION;VALUE=URI;X-ADDRESS=Unity of Phoenix Spiritual Center 1500 E Greenway Parkway Phoenix AZ 85022-2725 United States;X-APPLE-RADIUS=500;X-TITLE=1500 E Greenway Parkway:geo:-112.0493411,33.6384339
END:VEVENT
BEGIN:VEVENT
DTSTART;TZID=America/Phoenix:20251123T090000
DTEND;TZID=America/Phoenix:20251123T130000
DTSTAMP:20260421T010913
CREATED:20251030T204809Z
LAST-MODIFIED:20251113T075314Z
UID:10002794-1763888400-1763902800@unityphx.org
SUMMARY:Food Drive to Help Feed Local Families
DESCRIPTION:We’ll have collection bins for your nonperishable donations on:\nFour Sundays – Nov. 9\, 16\, 23 & 30\nThree Wednesdays – Nov. 12\, 19 & 26\nClick on the Flyer-Food Drive (November 2025) to view a list of the most needed items. \nMore and more families are struggling right now. Together\, we can make a difference for them by helping to put food on their tables. During November\, we’re teaming with a nearby local food bank\, Mom’s Pantry\, to collect nonperishable food items. Bring your donations to the collection bins in our Courtyard and help us turn compassion into action! \nEvery can\, every box\, every act of generosity matters. Let’s share our abundance and remind our neighbors that they are not alone!
URL:https://unityphx.org/events/food-drive-to-help-feed-local-families/2025-11-23/
LOCATION:Unity of Phoenix Spiritual Center\, 1500 E Greenway Parkway\, Phoenix\, AZ\, 85022-2725\, United States
CATEGORIES:Events,Holiday Events,Outreach Events
ATTACH;FMTTYPE=image/jpeg:https://unityphx.org/wp-content/uploads/2025/10/AdobeStock_742738582-scaled.jpeg
ORGANIZER;CN="Sue Thompson":MAILTO:sthompson@unityphx.org
GEO:33.6384339;-112.0493411
X-APPLE-STRUCTURED-LOCATION;VALUE=URI;X-ADDRESS=Unity of Phoenix Spiritual Center 1500 E Greenway Parkway Phoenix AZ 85022-2725 United States;X-APPLE-RADIUS=500;X-TITLE=1500 E Greenway Parkway:geo:-112.0493411,33.6384339
END:VEVENT
BEGIN:VEVENT
DTSTART;TZID=America/Phoenix:20251123T100000
DTEND;TZID=America/Phoenix:20251123T130000
DTSTAMP:20260421T010913
CREATED:20251030T205256Z
LAST-MODIFIED:20251030T211204Z
UID:10002779-1763892000-1763902800@unityphx.org
SUMMARY:Gift Drive for Teens in Foster Care Group Homes
DESCRIPTION:Our Gift Tree will be in the Courtyard on the following days:\nThree Sundays – Nov. 9\, 16 & 23\nTwo Wednesdays – Nov. 12 & 19\nThis holiday season\, we’re partnering with OCJ Kids to bring joy to teens who are currently living in foster care group homes. We are sponsoring 104 teens (ages 12-17) who have each shared one modest gift they’d like to have for Christmas — and you can make their wishes come true! \nVisit our Christmas Gift Tree in the Courtyard\, choose a gift (or two)\, and shop for the gift listed. (OCJ recommends spending between $25–$35 per gift.) Return your unwrapped gift to the Outreach Table no later than Sunday\, Nov. 30. \nEvery gift you provide will light up a young person’s holiday — and remind them that they are seen\, valued and loved.
URL:https://unityphx.org/events/gift-drive-for-teens-in-foster-care-group-homes/2025-11-23/
LOCATION:Unity of Phoenix Spiritual Center\, 1500 E Greenway Parkway\, Phoenix\, AZ\, 85022-2725\, United States
CATEGORIES:Events,Holiday Events,Outreach Events
ATTACH;FMTTYPE=image/png:https://unityphx.org/wp-content/uploads/2025/10/Photo-of-Kids.png
ORGANIZER;CN="Sue Thompson":MAILTO:sthompson@unityphx.org
GEO:33.6384339;-112.0493411
X-APPLE-STRUCTURED-LOCATION;VALUE=URI;X-ADDRESS=Unity of Phoenix Spiritual Center 1500 E Greenway Parkway Phoenix AZ 85022-2725 United States;X-APPLE-RADIUS=500;X-TITLE=1500 E Greenway Parkway:geo:-112.0493411,33.6384339
END:VEVENT
BEGIN:VEVENT
DTSTART;TZID=America/Phoenix:20251126T183000
DTEND;TZID=America/Phoenix:20251126T203000
DTSTAMP:20260421T010913
CREATED:20251030T204809Z
LAST-MODIFIED:20251113T075314Z
UID:10002795-1764181800-1764189000@unityphx.org
SUMMARY:Food Drive to Help Feed Local Families
DESCRIPTION:We’ll have collection bins for your nonperishable donations on:\nFour Sundays – Nov. 9\, 16\, 23 & 30\nThree Wednesdays – Nov. 12\, 19 & 26\nClick on the Flyer-Food Drive (November 2025) to view a list of the most needed items. \nMore and more families are struggling right now. Together\, we can make a difference for them by helping to put food on their tables. During November\, we’re teaming with a nearby local food bank\, Mom’s Pantry\, to collect nonperishable food items. Bring your donations to the collection bins in our Courtyard and help us turn compassion into action! \nEvery can\, every box\, every act of generosity matters. Let’s share our abundance and remind our neighbors that they are not alone!
URL:https://unityphx.org/events/food-drive-to-help-feed-local-families/2025-11-26/
LOCATION:Unity of Phoenix Spiritual Center\, 1500 E Greenway Parkway\, Phoenix\, AZ\, 85022-2725\, United States
CATEGORIES:Events,Holiday Events,Outreach Events
ATTACH;FMTTYPE=image/jpeg:https://unityphx.org/wp-content/uploads/2025/10/AdobeStock_742738582-scaled.jpeg
ORGANIZER;CN="Sue Thompson":MAILTO:sthompson@unityphx.org
GEO:33.6384339;-112.0493411
X-APPLE-STRUCTURED-LOCATION;VALUE=URI;X-ADDRESS=Unity of Phoenix Spiritual Center 1500 E Greenway Parkway Phoenix AZ 85022-2725 United States;X-APPLE-RADIUS=500;X-TITLE=1500 E Greenway Parkway:geo:-112.0493411,33.6384339
END:VEVENT
BEGIN:VEVENT
DTSTART;TZID=America/Phoenix:20251130T090000
DTEND;TZID=America/Phoenix:20251130T130000
DTSTAMP:20260421T010913
CREATED:20251030T204809Z
LAST-MODIFIED:20251113T075314Z
UID:10002796-1764493200-1764507600@unityphx.org
SUMMARY:Food Drive to Help Feed Local Families
DESCRIPTION:We’ll have collection bins for your nonperishable donations on:\nFour Sundays – Nov. 9\, 16\, 23 & 30\nThree Wednesdays – Nov. 12\, 19 & 26\nClick on the Flyer-Food Drive (November 2025) to view a list of the most needed items. \nMore and more families are struggling right now. Together\, we can make a difference for them by helping to put food on their tables. During November\, we’re teaming with a nearby local food bank\, Mom’s Pantry\, to collect nonperishable food items. Bring your donations to the collection bins in our Courtyard and help us turn compassion into action! \nEvery can\, every box\, every act of generosity matters. Let’s share our abundance and remind our neighbors that they are not alone!
URL:https://unityphx.org/events/food-drive-to-help-feed-local-families/2025-11-30/
LOCATION:Unity of Phoenix Spiritual Center\, 1500 E Greenway Parkway\, Phoenix\, AZ\, 85022-2725\, United States
CATEGORIES:Events,Holiday Events,Outreach Events
ATTACH;FMTTYPE=image/jpeg:https://unityphx.org/wp-content/uploads/2025/10/AdobeStock_742738582-scaled.jpeg
ORGANIZER;CN="Sue Thompson":MAILTO:sthompson@unityphx.org
GEO:33.6384339;-112.0493411
X-APPLE-STRUCTURED-LOCATION;VALUE=URI;X-ADDRESS=Unity of Phoenix Spiritual Center 1500 E Greenway Parkway Phoenix AZ 85022-2725 United States;X-APPLE-RADIUS=500;X-TITLE=1500 E Greenway Parkway:geo:-112.0493411,33.6384339
END:VEVENT
END:VCALENDAR