BEGIN:VCALENDAR
VERSION:2.0
PRODID:-//Unity of Phoenix Spiritual Center - ECPv6.15.20//NONSGML v1.0//EN
CALSCALE:GREGORIAN
METHOD:PUBLISH
X-WR-CALNAME:Unity of Phoenix Spiritual Center
X-ORIGINAL-URL:https://unityphx.org
X-WR-CALDESC:Events for Unity of Phoenix Spiritual Center
REFRESH-INTERVAL;VALUE=DURATION:PT1H
X-Robots-Tag:noindex
X-PUBLISHED-TTL:PT1H
BEGIN:VTIMEZONE
TZID:America/Phoenix
BEGIN:STANDARD
TZOFFSETFROM:-0700
TZOFFSETTO:-0700
TZNAME:MST
DTSTART:20240101T000000
END:STANDARD
END:VTIMEZONE
BEGIN:VEVENT
DTSTART;TZID=America/Phoenix:20250706T100000
DTEND;TZID=America/Phoenix:20250706T123000
DTSTAMP:20260425T052849
CREATED:20250620T233729Z
LAST-MODIFIED:20250620T233811Z
UID:10002666-1751796000-1751805000@unityphx.org
SUMMARY:Back-to-School Drive to Benefit Kids in Foster Care Group Homes
DESCRIPTION:Collection Days:\nThree: Sundays\, July 6\, 13 & 20\nTwo Wednesdays: July 9 and 16\nIn July we’ll be partnering with OCJ Kids (Opportunity Community and Justice for Kids) to provide school supplies to students in foster care who are currently living in group homes.\nFounded in 1992\, OCJ Kids forms alliances with the business and faith communities to provide services\, resources and caring adults to address the needs of the most vulnerable in our society. \nJoin us by purchasing supplies listed below and returning them to Unity of Phoenix on our collection days! Thank you for being a partner in providing resources to help foster kids living in group homes to have the tools to be a success for this school year. \nView and download a flyer with a list of needed donations: 20225 OCJ Kids School Supply Drive – 8.5×11 \nYou can also access OCJ’s “Amazon Wish List” for school supplies by going to: https://www.amazon.com/hz/wishlist/ls/1HMVDUCNEQ110?ref_=wl_share
URL:https://unityphx.org/events/back-to-school-drive-to-benefit-kids-in-foster-care-group-homes/2025-07-06/
LOCATION:Unity of Phoenix Spiritual Center\, 1500 E Greenway Parkway\, Phoenix\, AZ\, 85022-2725\, United States
CATEGORIES:Events,Outreach Events
ATTACH;FMTTYPE=image/jpeg:https://unityphx.org/wp-content/uploads/2025/06/School-Supply-Drive.jpg
ORGANIZER;CN="Sue Thompson":MAILTO:sthompson@unityphx.org
GEO:33.6384339;-112.0493411
X-APPLE-STRUCTURED-LOCATION;VALUE=URI;X-ADDRESS=Unity of Phoenix Spiritual Center 1500 E Greenway Parkway Phoenix AZ 85022-2725 United States;X-APPLE-RADIUS=500;X-TITLE=1500 E Greenway Parkway:geo:-112.0493411,33.6384339
END:VEVENT
BEGIN:VEVENT
DTSTART;TZID=America/Phoenix:20250709T100000
DTEND;TZID=America/Phoenix:20250709T123000
DTSTAMP:20260425T052849
CREATED:20250620T233729Z
LAST-MODIFIED:20250620T233811Z
UID:10002667-1752055200-1752064200@unityphx.org
SUMMARY:Back-to-School Drive to Benefit Kids in Foster Care Group Homes
DESCRIPTION:Collection Days:\nThree: Sundays\, July 6\, 13 & 20\nTwo Wednesdays: July 9 and 16\nIn July we’ll be partnering with OCJ Kids (Opportunity Community and Justice for Kids) to provide school supplies to students in foster care who are currently living in group homes.\nFounded in 1992\, OCJ Kids forms alliances with the business and faith communities to provide services\, resources and caring adults to address the needs of the most vulnerable in our society. \nJoin us by purchasing supplies listed below and returning them to Unity of Phoenix on our collection days! Thank you for being a partner in providing resources to help foster kids living in group homes to have the tools to be a success for this school year. \nView and download a flyer with a list of needed donations: 20225 OCJ Kids School Supply Drive – 8.5×11 \nYou can also access OCJ’s “Amazon Wish List” for school supplies by going to: https://www.amazon.com/hz/wishlist/ls/1HMVDUCNEQ110?ref_=wl_share
URL:https://unityphx.org/events/back-to-school-drive-to-benefit-kids-in-foster-care-group-homes/2025-07-09/
LOCATION:Unity of Phoenix Spiritual Center\, 1500 E Greenway Parkway\, Phoenix\, AZ\, 85022-2725\, United States
CATEGORIES:Events,Outreach Events
ATTACH;FMTTYPE=image/jpeg:https://unityphx.org/wp-content/uploads/2025/06/School-Supply-Drive.jpg
ORGANIZER;CN="Sue Thompson":MAILTO:sthompson@unityphx.org
GEO:33.6384339;-112.0493411
X-APPLE-STRUCTURED-LOCATION;VALUE=URI;X-ADDRESS=Unity of Phoenix Spiritual Center 1500 E Greenway Parkway Phoenix AZ 85022-2725 United States;X-APPLE-RADIUS=500;X-TITLE=1500 E Greenway Parkway:geo:-112.0493411,33.6384339
END:VEVENT
BEGIN:VEVENT
DTSTART;TZID=America/Phoenix:20250711T100000
DTEND;TZID=America/Phoenix:20250711T123000
DTSTAMP:20260425T052849
CREATED:20250620T233729Z
LAST-MODIFIED:20250620T233811Z
UID:10002668-1752228000-1752237000@unityphx.org
SUMMARY:Back-to-School Drive to Benefit Kids in Foster Care Group Homes
DESCRIPTION:Collection Days:\nThree: Sundays\, July 6\, 13 & 20\nTwo Wednesdays: July 9 and 16\nIn July we’ll be partnering with OCJ Kids (Opportunity Community and Justice for Kids) to provide school supplies to students in foster care who are currently living in group homes.\nFounded in 1992\, OCJ Kids forms alliances with the business and faith communities to provide services\, resources and caring adults to address the needs of the most vulnerable in our society. \nJoin us by purchasing supplies listed below and returning them to Unity of Phoenix on our collection days! Thank you for being a partner in providing resources to help foster kids living in group homes to have the tools to be a success for this school year. \nView and download a flyer with a list of needed donations: 20225 OCJ Kids School Supply Drive – 8.5×11 \nYou can also access OCJ’s “Amazon Wish List” for school supplies by going to: https://www.amazon.com/hz/wishlist/ls/1HMVDUCNEQ110?ref_=wl_share
URL:https://unityphx.org/events/back-to-school-drive-to-benefit-kids-in-foster-care-group-homes/2025-07-11/
LOCATION:Unity of Phoenix Spiritual Center\, 1500 E Greenway Parkway\, Phoenix\, AZ\, 85022-2725\, United States
CATEGORIES:Events,Outreach Events
ATTACH;FMTTYPE=image/jpeg:https://unityphx.org/wp-content/uploads/2025/06/School-Supply-Drive.jpg
ORGANIZER;CN="Sue Thompson":MAILTO:sthompson@unityphx.org
GEO:33.6384339;-112.0493411
X-APPLE-STRUCTURED-LOCATION;VALUE=URI;X-ADDRESS=Unity of Phoenix Spiritual Center 1500 E Greenway Parkway Phoenix AZ 85022-2725 United States;X-APPLE-RADIUS=500;X-TITLE=1500 E Greenway Parkway:geo:-112.0493411,33.6384339
END:VEVENT
BEGIN:VEVENT
DTSTART;TZID=America/Phoenix:20250713T100000
DTEND;TZID=America/Phoenix:20250713T123000
DTSTAMP:20260425T052849
CREATED:20250620T233729Z
LAST-MODIFIED:20250620T233811Z
UID:10002669-1752400800-1752409800@unityphx.org
SUMMARY:Back-to-School Drive to Benefit Kids in Foster Care Group Homes
DESCRIPTION:Collection Days:\nThree: Sundays\, July 6\, 13 & 20\nTwo Wednesdays: July 9 and 16\nIn July we’ll be partnering with OCJ Kids (Opportunity Community and Justice for Kids) to provide school supplies to students in foster care who are currently living in group homes.\nFounded in 1992\, OCJ Kids forms alliances with the business and faith communities to provide services\, resources and caring adults to address the needs of the most vulnerable in our society. \nJoin us by purchasing supplies listed below and returning them to Unity of Phoenix on our collection days! Thank you for being a partner in providing resources to help foster kids living in group homes to have the tools to be a success for this school year. \nView and download a flyer with a list of needed donations: 20225 OCJ Kids School Supply Drive – 8.5×11 \nYou can also access OCJ’s “Amazon Wish List” for school supplies by going to: https://www.amazon.com/hz/wishlist/ls/1HMVDUCNEQ110?ref_=wl_share
URL:https://unityphx.org/events/back-to-school-drive-to-benefit-kids-in-foster-care-group-homes/2025-07-13/
LOCATION:Unity of Phoenix Spiritual Center\, 1500 E Greenway Parkway\, Phoenix\, AZ\, 85022-2725\, United States
CATEGORIES:Events,Outreach Events
ATTACH;FMTTYPE=image/jpeg:https://unityphx.org/wp-content/uploads/2025/06/School-Supply-Drive.jpg
ORGANIZER;CN="Sue Thompson":MAILTO:sthompson@unityphx.org
GEO:33.6384339;-112.0493411
X-APPLE-STRUCTURED-LOCATION;VALUE=URI;X-ADDRESS=Unity of Phoenix Spiritual Center 1500 E Greenway Parkway Phoenix AZ 85022-2725 United States;X-APPLE-RADIUS=500;X-TITLE=1500 E Greenway Parkway:geo:-112.0493411,33.6384339
END:VEVENT
BEGIN:VEVENT
DTSTART;TZID=America/Phoenix:20250716T100000
DTEND;TZID=America/Phoenix:20250716T123000
DTSTAMP:20260425T052849
CREATED:20250620T233729Z
LAST-MODIFIED:20250620T233811Z
UID:10002670-1752660000-1752669000@unityphx.org
SUMMARY:Back-to-School Drive to Benefit Kids in Foster Care Group Homes
DESCRIPTION:Collection Days:\nThree: Sundays\, July 6\, 13 & 20\nTwo Wednesdays: July 9 and 16\nIn July we’ll be partnering with OCJ Kids (Opportunity Community and Justice for Kids) to provide school supplies to students in foster care who are currently living in group homes.\nFounded in 1992\, OCJ Kids forms alliances with the business and faith communities to provide services\, resources and caring adults to address the needs of the most vulnerable in our society. \nJoin us by purchasing supplies listed below and returning them to Unity of Phoenix on our collection days! Thank you for being a partner in providing resources to help foster kids living in group homes to have the tools to be a success for this school year. \nView and download a flyer with a list of needed donations: 20225 OCJ Kids School Supply Drive – 8.5×11 \nYou can also access OCJ’s “Amazon Wish List” for school supplies by going to: https://www.amazon.com/hz/wishlist/ls/1HMVDUCNEQ110?ref_=wl_share
URL:https://unityphx.org/events/back-to-school-drive-to-benefit-kids-in-foster-care-group-homes/2025-07-16/
LOCATION:Unity of Phoenix Spiritual Center\, 1500 E Greenway Parkway\, Phoenix\, AZ\, 85022-2725\, United States
CATEGORIES:Events,Outreach Events
ATTACH;FMTTYPE=image/jpeg:https://unityphx.org/wp-content/uploads/2025/06/School-Supply-Drive.jpg
ORGANIZER;CN="Sue Thompson":MAILTO:sthompson@unityphx.org
GEO:33.6384339;-112.0493411
X-APPLE-STRUCTURED-LOCATION;VALUE=URI;X-ADDRESS=Unity of Phoenix Spiritual Center 1500 E Greenway Parkway Phoenix AZ 85022-2725 United States;X-APPLE-RADIUS=500;X-TITLE=1500 E Greenway Parkway:geo:-112.0493411,33.6384339
END:VEVENT
BEGIN:VEVENT
DTSTART;TZID=America/Phoenix:20250718T100000
DTEND;TZID=America/Phoenix:20250718T123000
DTSTAMP:20260425T052849
CREATED:20250620T233729Z
LAST-MODIFIED:20250620T233811Z
UID:10002671-1752832800-1752841800@unityphx.org
SUMMARY:Back-to-School Drive to Benefit Kids in Foster Care Group Homes
DESCRIPTION:Collection Days:\nThree: Sundays\, July 6\, 13 & 20\nTwo Wednesdays: July 9 and 16\nIn July we’ll be partnering with OCJ Kids (Opportunity Community and Justice for Kids) to provide school supplies to students in foster care who are currently living in group homes.\nFounded in 1992\, OCJ Kids forms alliances with the business and faith communities to provide services\, resources and caring adults to address the needs of the most vulnerable in our society. \nJoin us by purchasing supplies listed below and returning them to Unity of Phoenix on our collection days! Thank you for being a partner in providing resources to help foster kids living in group homes to have the tools to be a success for this school year. \nView and download a flyer with a list of needed donations: 20225 OCJ Kids School Supply Drive – 8.5×11 \nYou can also access OCJ’s “Amazon Wish List” for school supplies by going to: https://www.amazon.com/hz/wishlist/ls/1HMVDUCNEQ110?ref_=wl_share
URL:https://unityphx.org/events/back-to-school-drive-to-benefit-kids-in-foster-care-group-homes/2025-07-18/
LOCATION:Unity of Phoenix Spiritual Center\, 1500 E Greenway Parkway\, Phoenix\, AZ\, 85022-2725\, United States
CATEGORIES:Events,Outreach Events
ATTACH;FMTTYPE=image/jpeg:https://unityphx.org/wp-content/uploads/2025/06/School-Supply-Drive.jpg
ORGANIZER;CN="Sue Thompson":MAILTO:sthompson@unityphx.org
GEO:33.6384339;-112.0493411
X-APPLE-STRUCTURED-LOCATION;VALUE=URI;X-ADDRESS=Unity of Phoenix Spiritual Center 1500 E Greenway Parkway Phoenix AZ 85022-2725 United States;X-APPLE-RADIUS=500;X-TITLE=1500 E Greenway Parkway:geo:-112.0493411,33.6384339
END:VEVENT
BEGIN:VEVENT
DTSTART;TZID=America/Phoenix:20250720T100000
DTEND;TZID=America/Phoenix:20250720T123000
DTSTAMP:20260425T052849
CREATED:20250620T233729Z
LAST-MODIFIED:20250620T233811Z
UID:10002672-1753005600-1753014600@unityphx.org
SUMMARY:Back-to-School Drive to Benefit Kids in Foster Care Group Homes
DESCRIPTION:Collection Days:\nThree: Sundays\, July 6\, 13 & 20\nTwo Wednesdays: July 9 and 16\nIn July we’ll be partnering with OCJ Kids (Opportunity Community and Justice for Kids) to provide school supplies to students in foster care who are currently living in group homes.\nFounded in 1992\, OCJ Kids forms alliances with the business and faith communities to provide services\, resources and caring adults to address the needs of the most vulnerable in our society. \nJoin us by purchasing supplies listed below and returning them to Unity of Phoenix on our collection days! Thank you for being a partner in providing resources to help foster kids living in group homes to have the tools to be a success for this school year. \nView and download a flyer with a list of needed donations: 20225 OCJ Kids School Supply Drive – 8.5×11 \nYou can also access OCJ’s “Amazon Wish List” for school supplies by going to: https://www.amazon.com/hz/wishlist/ls/1HMVDUCNEQ110?ref_=wl_share
URL:https://unityphx.org/events/back-to-school-drive-to-benefit-kids-in-foster-care-group-homes/2025-07-20/
LOCATION:Unity of Phoenix Spiritual Center\, 1500 E Greenway Parkway\, Phoenix\, AZ\, 85022-2725\, United States
CATEGORIES:Events,Outreach Events
ATTACH;FMTTYPE=image/jpeg:https://unityphx.org/wp-content/uploads/2025/06/School-Supply-Drive.jpg
ORGANIZER;CN="Sue Thompson":MAILTO:sthompson@unityphx.org
GEO:33.6384339;-112.0493411
X-APPLE-STRUCTURED-LOCATION;VALUE=URI;X-ADDRESS=Unity of Phoenix Spiritual Center 1500 E Greenway Parkway Phoenix AZ 85022-2725 United States;X-APPLE-RADIUS=500;X-TITLE=1500 E Greenway Parkway:geo:-112.0493411,33.6384339
END:VEVENT
END:VCALENDAR