BEGIN:VCALENDAR
VERSION:2.0
PRODID:-//Unity of Phoenix Spiritual Center - ECPv6.15.20//NONSGML v1.0//EN
CALSCALE:GREGORIAN
METHOD:PUBLISH
X-ORIGINAL-URL:https://unityphx.org
X-WR-CALDESC:Events for Unity of Phoenix Spiritual Center
REFRESH-INTERVAL;VALUE=DURATION:PT1H
X-Robots-Tag:noindex
X-PUBLISHED-TTL:PT1H
BEGIN:VTIMEZONE
TZID:America/Phoenix
BEGIN:STANDARD
TZOFFSETFROM:-0700
TZOFFSETTO:-0700
TZNAME:MST
DTSTART:20240101T000000
END:STANDARD
END:VTIMEZONE
BEGIN:VEVENT
DTSTART;TZID=America/Phoenix:20250202T080000
DTEND;TZID=America/Phoenix:20250202T130000
DTSTAMP:20260425T115554
CREATED:20240318T211729Z
LAST-MODIFIED:20250103T214919Z
UID:10002274-1738483200-1738501200@unityphx.org
SUMMARY:Please Sign Up to Donate Blood at Our Blood Drive!
DESCRIPTION:Donating blood saves 12\,000 lives a day. But people these days aren’t giving like the generations before them\, so we encourage all of you to give. Over 700 blood donors are needed each day to meet the needs of Arizona patients\, alone. Please help us meet those needs; your one donation can save up to four lives! \nWho will need blood next? Maybe YOU! SIGN UP TO DONATE!\nvitalant.org (Blood Drive Code: P1X28)
URL:https://unityphx.org/events/donate-blood-at-our-blood-drive/
LOCATION:Unity of Phoenix Spiritual Center\, 1500 E Greenway Parkway\, Phoenix\, AZ\, 85022-2725\, United States
CATEGORIES:Events,In Person,Outreach Events
ATTACH;FMTTYPE=image/jpeg:https://unityphx.org/wp-content/uploads/2024/03/Blood-Drive-Feb.-2-2025.jpg
ORGANIZER;CN="Sue Thompson":MAILTO:sthompson@unityphx.org
GEO:33.6384339;-112.0493411
X-APPLE-STRUCTURED-LOCATION;VALUE=URI;X-ADDRESS=Unity of Phoenix Spiritual Center 1500 E Greenway Parkway Phoenix AZ 85022-2725 United States;X-APPLE-RADIUS=500;X-TITLE=1500 E Greenway Parkway:geo:-112.0493411,33.6384339
END:VEVENT
BEGIN:VEVENT
DTSTART;TZID=America/Phoenix:20250207T124500
DTEND;TZID=America/Phoenix:20250207T150000
DTSTAMP:20260425T115555
CREATED:20250121T020432Z
LAST-MODIFIED:20250121T020500Z
UID:10002308-1738932300-1738940400@unityphx.org
SUMMARY:Outreach Day with Rev. Stacy: Packing Emergency Food Boxes at St. Mary's Food Bank
DESCRIPTION:Instead of a Night Out\, in February Rev. Stacy invites you to join her for an outreach day making a difference in our community! \nSt. Mary’s Food Bank\nEmergency Food Box Packing\nFriday\, Feb. 7 • 12:45-3 p.m.\n2831 North 31st Avenue\, Phoenix\, 85009\nYou MUST RSVP for this activity by filling out the form below no later than Monday\, Feb. 3 \nJoin Rev. Stacy Macris Ros to pack emergency food boxes that will be distributed throughout Arizona to families needing assistance! \nOrientation begins promptly at 12:45pm\, and the session will run until 3pm. Afterward\, for those who are interested\, we’ll try to gather at a nearby coffeehouse to wind down and share fellowship! \nAge requirement is 12 years with an adult and 16+ without an adult. Dress Code: Sneakers or boots only. No sandals\, flip flops\, crocs\, flats\, or any shoe with an exposed foot. All shirts must have a short or long sleeve (no tank tops). You are encouraged to leave belongings at home\, but lockers will be available if needed. There is plenty of water for our volunteers. No beverages other than water are allowed in the working areas.
URL:https://unityphx.org/events/outreach-day-with-rev-stacy-packing-emergency-food-boxes-at-st-marys-food-bank/
LOCATION:St. Mary’s Food Bank Location\, 2804 N. 29th Avenue\, Phoenix\, AZ\, 85009\, United States
CATEGORIES:Events,In Person,Outreach Events
ATTACH;FMTTYPE=image/jpeg:https://unityphx.org/wp-content/uploads/2025/01/St.-Marys-Food-Bank.jpg
ORGANIZER;CN="Rev. Stacy Macris Ros":MAILTO:smacrisros@unityphx.org
END:VEVENT
END:VCALENDAR