BEGIN:VCALENDAR
VERSION:2.0
PRODID:-//Unity of Phoenix Spiritual Center - ECPv6.15.20//NONSGML v1.0//EN
CALSCALE:GREGORIAN
METHOD:PUBLISH
X-WR-CALNAME:Unity of Phoenix Spiritual Center
X-ORIGINAL-URL:https://unityphx.org
X-WR-CALDESC:Events for Unity of Phoenix Spiritual Center
REFRESH-INTERVAL;VALUE=DURATION:PT1H
X-Robots-Tag:noindex
X-PUBLISHED-TTL:PT1H
BEGIN:VTIMEZONE
TZID:America/Phoenix
BEGIN:STANDARD
TZOFFSETFROM:-0700
TZOFFSETTO:-0700
TZNAME:MST
DTSTART:20240101T000000
END:STANDARD
END:VTIMEZONE
BEGIN:VEVENT
DTSTART;TZID=America/Phoenix:20250928T160000
DTEND;TZID=America/Phoenix:20250928T180000
DTSTAMP:20260422T131739
CREATED:20250613T080603Z
LAST-MODIFIED:20250919T013534Z
UID:10002652-1759075200-1759082400@unityphx.org
SUMMARY:Out & About with Rev. Maraj: Scottsdale Philharmonic
DESCRIPTION:Deadline to Purchase Tickets Extended to Thursday\, Sept. 18\, at 5 p.m.\nFeaturing Pianist Nicole Pesci\nJoin Rev. Richard Maraj for a powerhouse concert by the Scottsdale Philharmonic a local\, professionally-trained symphonic orchestra dedicated to playing classical works. The upcoming season’s theme is “The American Journey: Struggle\, Spirit\, and Triumph\, and this particular concert — “Rhapsody in Blue and Beyond” — will feature pianist Nicole Pesci\, a spectacular Unity of Phoenix favorite! \nThis is a fabulous opportunity to enjoy a vibrant orchestra performance without having to drive downtown\, pay for parking\, and hike a ways to enter the venue. Join us for talented musicians\, beautiful music and “classic” opportunity to bond with Rev. Maraj and other congregants! \nNOTE: The confirmation you receive when purchasing these tickets is NOT your ticket into the venue. Once the sales deadline closes\, we will receive hard copy tickets that you can pick up in our on-campus Divine Idea Bookstore. We will email you when they are available for pick-up.
URL:https://unityphx.org/events/out-about-with-rev-maraj-scottsdale-philharmonic/
LOCATION:Casa De Cristo Lutheran Church\, 6300 E. Bell Road\, Scottsdale\, AZ\, 85254\, United States
CATEGORIES:Events,In Person,Out & About with the Ministers
ATTACH;FMTTYPE=image/jpeg:https://unityphx.org/wp-content/uploads/2025/06/scottsdale-philharmonic-orchestra.jpg
ORGANIZER;CN="Sue Thompson":MAILTO:sthompson@unityphx.org
END:VEVENT
END:VCALENDAR