BEGIN:VCALENDAR
VERSION:2.0
PRODID:-//Unity of Phoenix Spiritual Center - ECPv6.15.20//NONSGML v1.0//EN
CALSCALE:GREGORIAN
METHOD:PUBLISH
X-ORIGINAL-URL:https://unityphx.org
X-WR-CALDESC:Events for Unity of Phoenix Spiritual Center
REFRESH-INTERVAL;VALUE=DURATION:PT1H
X-Robots-Tag:noindex
X-PUBLISHED-TTL:PT1H
BEGIN:VTIMEZONE
TZID:America/Phoenix
BEGIN:STANDARD
TZOFFSETFROM:-0700
TZOFFSETTO:-0700
TZNAME:MST
DTSTART:20240101T000000
END:STANDARD
END:VTIMEZONE
BEGIN:VEVENT
DTSTART;TZID=America/Phoenix:20250606T180000
DTEND;TZID=America/Phoenix:20250606T210000
DTSTAMP:20260422T170223
CREATED:20250429T001031Z
LAST-MODIFIED:20250618T213400Z
UID:10002374-1749232800-1749243600@unityphx.org
SUMMARY:A Night Out with Rev. Stacy: Pottery Painting at 'As You Wish'
DESCRIPTION:Join Rev. Stacy Macris Ros for a night of pottery painting where you can flex your creative muscle while having lots of fun! As You Wish will provide expert assistance and anything else you need to let your inner artist out – including paints\, palettes\, brushes\, lettering tools\, tape\, pencils\, tracing materials\, vinyl stickers\, stamps\, sponges\, books of inspiration\, and anything else you need to let your inner artist out! \nThe $45 ticket covers the studio painting fee; a piece of pottery you select to paint (up to $30); and tip for the studio teachers. \nIf you’d like to join Rev. Stacy for dinner before the event\, plan to join her at 5pm at Zupa’s\, a restaurant that offers a variety of soups\, salads and sandwiches (located very near the As You Wish center in the Desert Ridge marketplace).
URL:https://unityphx.org/events/a-night-out-with-rev-stacy-pottery-painting-at-as-you-wish/
LOCATION:As You Wish Pottery Painting Center\, 21001 N. Tatum Blvd.\, Ste. 150\,\, Phoenix\, 85050\, United States
CATEGORIES:Events,In Person,Out & About with the Ministers
ATTACH;FMTTYPE=image/jpeg:https://unityphx.org/wp-content/uploads/2025/04/As-You-Wish.jpg
ORGANIZER;CN="Sue Thompson":MAILTO:sthompson@unityphx.org
END:VEVENT
END:VCALENDAR