BEGIN:VCALENDAR
VERSION:2.0
PRODID:-//Unity of Phoenix Spiritual Center - ECPv6.15.20//NONSGML v1.0//EN
CALSCALE:GREGORIAN
METHOD:PUBLISH
X-ORIGINAL-URL:https://unityphx.org
X-WR-CALDESC:Events for Unity of Phoenix Spiritual Center
REFRESH-INTERVAL;VALUE=DURATION:PT1H
X-Robots-Tag:noindex
X-PUBLISHED-TTL:PT1H
BEGIN:VTIMEZONE
TZID:America/Phoenix
BEGIN:STANDARD
TZOFFSETFROM:-0700
TZOFFSETTO:-0700
TZNAME:MST
DTSTART:20250101T000000
END:STANDARD
END:VTIMEZONE
BEGIN:VEVENT
DTSTART;TZID=America/Phoenix:20260506T173000
DTEND;TZID=America/Phoenix:20260506T190000
DTSTAMP:20260421T040431
CREATED:20260420T224212Z
LAST-MODIFIED:20260420T224441Z
UID:10002855-1778088600-1778094000@unityphx.org
SUMMARY:Reiki II
DESCRIPTION:Tickets: $15 \nReiki II lovingly invites you to deepen your practice with greater intention\, clarity\, and energetic awareness. In this class\, you will be introduced to powerful symbols\, explore distance healing\, and learn supportive techniques for mental and emotional balance. Our time together will focus on shared learning\, practice and exploration in a supportive group setting.\nIndividual attunements will be offered in a one-on-one setting during the following week\, creating space for a more personal\, meaningful and supportive experience. \nPrerequisite: Completion of Reiki I is required. If you trained with another instructor\, please provide a copy of your Reiki I certificate prior to attending. \nNote: Because this class is limited to those who have completed Reiki I\, registration must be completed in person—either at the volunteer table in the courtyard on Sunday mornings or through the Reception Desk with Julia Kellogg on Wednesday evenings.
URL:https://unityphx.org/events/1009537/
LOCATION:Unity of Phoenix Spiritual Center\, 1500 E Greenway Parkway\, Phoenix\, AZ\, 85022-2725\, United States
CATEGORIES:Classes,In Person
ATTACH;FMTTYPE=image/jpeg:https://unityphx.org/wp-content/uploads/2026/04/Reiki-II.jpg
ORGANIZER;CN="Rev. Beci Rohkohl":MAILTO:brohkohl@unityphx.org
GEO:33.6384339;-112.0493411
X-APPLE-STRUCTURED-LOCATION;VALUE=URI;X-ADDRESS=Unity of Phoenix Spiritual Center 1500 E Greenway Parkway Phoenix AZ 85022-2725 United States;X-APPLE-RADIUS=500;X-TITLE=1500 E Greenway Parkway:geo:-112.0493411,33.6384339
END:VEVENT
BEGIN:VEVENT
DTSTART;TZID=America/Phoenix:20260517T124500
DTEND;TZID=America/Phoenix:20260517T151500
DTSTAMP:20260421T040431
CREATED:20260420T231025Z
LAST-MODIFIED:20260420T232527Z
UID:10002856-1779021900-1779030900@unityphx.org
SUMMARY:Membership Basics
DESCRIPTION:Completing our “Membership Basics” class is one of the prerequisites for becoming a member. This class teaches the history\, ideas\, beliefs and philosophies of the founders who formed the Unity stream of spiritual thought\, as well as an introduction to the concept of affirmative prayer and Unity’s “five-step prayer process.” \nNote: If you aren’t able to make this particular class\, “Membership Basics” will be offered additional times before the next Membership Orientation in October.
URL:https://unityphx.org/events/membership-basics-5/
LOCATION:Unity of Phoenix Spiritual Center\, 1500 E Greenway Parkway\, Phoenix\, AZ\, 85022-2725\, United States
CATEGORIES:Classes,In Person,Membership Classes
ATTACH;FMTTYPE=image/jpeg:https://unityphx.org/wp-content/uploads/2026/04/Membership-Basics-May-17-Rev.-Richard-Maraj.jpg
GEO:33.6384339;-112.0493411
X-APPLE-STRUCTURED-LOCATION;VALUE=URI;X-ADDRESS=Unity of Phoenix Spiritual Center 1500 E Greenway Parkway Phoenix AZ 85022-2725 United States;X-APPLE-RADIUS=500;X-TITLE=1500 E Greenway Parkway:geo:-112.0493411,33.6384339
END:VEVENT
END:VCALENDAR