BEGIN:VCALENDAR
VERSION:2.0
PRODID:-//Unity of Phoenix Spiritual Center - ECPv6.15.20//NONSGML v1.0//EN
CALSCALE:GREGORIAN
METHOD:PUBLISH
X-ORIGINAL-URL:https://unityphx.org
X-WR-CALDESC:Events for Unity of Phoenix Spiritual Center
REFRESH-INTERVAL;VALUE=DURATION:PT1H
X-Robots-Tag:noindex
X-PUBLISHED-TTL:PT1H
BEGIN:VTIMEZONE
TZID:America/Phoenix
BEGIN:STANDARD
TZOFFSETFROM:-0700
TZOFFSETTO:-0700
TZNAME:MST
DTSTART:20240101T000000
END:STANDARD
END:VTIMEZONE
BEGIN:VEVENT
DTSTART;TZID=America/Phoenix:20251207T123000
DTEND;TZID=America/Phoenix:20251207T143000
DTSTAMP:20260425T041952
CREATED:20251105T212059Z
LAST-MODIFIED:20251105T212059Z
UID:10002780-1765110600-1765117800@unityphx.org
SUMMARY:Metaphysics of Christmas: the Message\, Meaning & Mysticism
DESCRIPTION:For many of us\, the holiday season is the most wonderful time of the year. Yet underneath all the holiday trimmings is a beautiful\, universal story about much more then what happened over 2\,000 years ago. The Christmas story is the story of the birth of Christ Consciousness in you\, told through metaphysical symbolism. \nPlease join Rev. Kim as she unpacks the message\, metaphysics and mystical meaning of Christmas!
URL:https://unityphx.org/events/metaphysics-of-christmas-the-message-meaning-mysticism/
LOCATION:Unity of Phoenix Spiritual Center\, 1500 E Greenway Parkway\, Phoenix\, AZ\, 85022-2725\, United States
CATEGORIES:Classes,Holiday Events,In Person
ATTACH;FMTTYPE=image/jpeg:https://unityphx.org/wp-content/uploads/2025/11/Metaphysical-Meaning-of-Christmas-2025pptx.jpg
GEO:33.6384339;-112.0493411
X-APPLE-STRUCTURED-LOCATION;VALUE=URI;X-ADDRESS=Unity of Phoenix Spiritual Center 1500 E Greenway Parkway Phoenix AZ 85022-2725 United States;X-APPLE-RADIUS=500;X-TITLE=1500 E Greenway Parkway:geo:-112.0493411,33.6384339
END:VEVENT
END:VCALENDAR