BEGIN:VCALENDAR
VERSION:2.0
PRODID:-//Unity of Phoenix Spiritual Center - ECPv6.15.20//NONSGML v1.0//EN
CALSCALE:GREGORIAN
METHOD:PUBLISH
X-ORIGINAL-URL:https://unityphx.org
X-WR-CALDESC:Events for Unity of Phoenix Spiritual Center
REFRESH-INTERVAL;VALUE=DURATION:PT1H
X-Robots-Tag:noindex
X-PUBLISHED-TTL:PT1H
BEGIN:VTIMEZONE
TZID:America/Phoenix
BEGIN:STANDARD
TZOFFSETFROM:-0700
TZOFFSETTO:-0700
TZNAME:MST
DTSTART:20240101T000000
END:STANDARD
END:VTIMEZONE
BEGIN:VEVENT
DTSTART;TZID=America/Phoenix:20250506T183000
DTEND;TZID=America/Phoenix:20250506T203000
DTSTAMP:20260425T132852
CREATED:20250501T200619Z
LAST-MODIFIED:20250501T202014Z
UID:10002311-1746556200-1746563400@unityphx.org
SUMMARY:The I of the Storm
DESCRIPTION:PLEASE NOTE: The $60 fee covers all 4 sessions – May 6\, May 13\, May 20 & May 27 \nJoin Rev. Stacy Macris Ros for a class based on the popular book by Gary Simmons\, “The I of the Storm.” \nLearn to go beyond merely managing the conflict in your life to actually embracing the conflict\, allowing it to teach you what you otherwise might not learn. This process leads to peacemaking\, whether it be within yourself\, in your relationships\, or as a result of outside circumstances. \nCome learn to embrace the idea that “No One and Nothing is Against Me.” \nRequired text: “The I of the Storm” by Gary Simmons.
URL:https://unityphx.org/events/the-i-of-the-storm-2/
LOCATION:Unity of Phoenix Spiritual Center\, 1500 E Greenway Parkway\, Phoenix\, AZ\, 85022-2725\, United States
CATEGORIES:Classes,In Person
ATTACH;FMTTYPE=image/jpeg:https://unityphx.org/wp-content/uploads/2025/02/The-I-of-the-Storm-Stacy-Macris-Ros-2.jpg
ORGANIZER;CN="Rev. Stacy Macris Ros":MAILTO:smacrisros@unityphx.org
GEO:33.6384339;-112.0493411
X-APPLE-STRUCTURED-LOCATION;VALUE=URI;X-ADDRESS=Unity of Phoenix Spiritual Center 1500 E Greenway Parkway Phoenix AZ 85022-2725 United States;X-APPLE-RADIUS=500;X-TITLE=1500 E Greenway Parkway:geo:-112.0493411,33.6384339
END:VEVENT
END:VCALENDAR