BEGIN:VCALENDAR
VERSION:2.0
PRODID:-//Unity of Phoenix Spiritual Center - ECPv6.15.20//NONSGML v1.0//EN
CALSCALE:GREGORIAN
METHOD:PUBLISH
X-ORIGINAL-URL:https://unityphx.org
X-WR-CALDESC:Events for Unity of Phoenix Spiritual Center
REFRESH-INTERVAL;VALUE=DURATION:PT1H
X-Robots-Tag:noindex
X-PUBLISHED-TTL:PT1H
BEGIN:VTIMEZONE
TZID:America/Phoenix
BEGIN:STANDARD
TZOFFSETFROM:-0700
TZOFFSETTO:-0700
TZNAME:MST
DTSTART:20240101T000000
END:STANDARD
END:VTIMEZONE
BEGIN:VEVENT
DTSTART;TZID=America/Phoenix:20250302T123000
DTEND;TZID=America/Phoenix:20250302T140000
DTSTAMP:20260425T162122
CREATED:20250207T080827Z
LAST-MODIFIED:20250207T081006Z
UID:10002315-1740918600-1740924000@unityphx.org
SUMMARY:Life-Saving Sunday
DESCRIPTION:Learn to Save a Life with CPR\, the Heimlich\, and an Automatic External Defibrillator (AED)\nWhen someone suffers from cardiac arrest\, quick action by bystanders with CPR knowledge can increase the survival rate of the victim by 80%. Sadly\, national statistics show that only 15-30% of cardiac arrest victims receive bystander CPR\, primarily because people aren’t trained to provide it. \nThat’s why we’re bringing in Lori Stauffer from the Scottsdale Fire Department to teach us this life-saving skill! CPR is EASY to learn\, and mouth-to-mouth is no longer required; you’ll learn the hands-only technique. In addition\, you’ll learn how to do the Heimlich for choking victims; how to use an automatic external defibrillator (AED); and what to do in case of bleeding emergencies. \nThis is not an official certification class\, but participants will receive a certificate of attendance. \nWill you be ready when a family member\, friend\, elderly parent or co-worker needs help? Reserve your spot in this class TODAY! \n 
URL:https://unityphx.org/events/life-saving-sunday-2/
LOCATION:Unity of Phoenix Spiritual Center\, 1500 E Greenway Parkway\, Phoenix\, AZ\, 85022-2725\, United States
CATEGORIES:Classes,In Person
ATTACH;FMTTYPE=image/jpeg:https://unityphx.org/wp-content/uploads/2025/02/Life-Saving-Sunday-March-2025.jpg
GEO:33.6384339;-112.0493411
X-APPLE-STRUCTURED-LOCATION;VALUE=URI;X-ADDRESS=Unity of Phoenix Spiritual Center 1500 E Greenway Parkway Phoenix AZ 85022-2725 United States;X-APPLE-RADIUS=500;X-TITLE=1500 E Greenway Parkway:geo:-112.0493411,33.6384339
END:VEVENT
BEGIN:VEVENT
DTSTART;TZID=America/Phoenix:20250304T190000
DTEND;TZID=America/Phoenix:20250304T203000
DTSTAMP:20260425T162122
CREATED:20250113T080357Z
LAST-MODIFIED:20250220T024736Z
UID:10002304-1741114800-1741120200@unityphx.org
SUMMARY:How to Let God Help You
DESCRIPTION:In this class we will take a deep dive into the wisdom and the teachings of Myrtle Fillmore: how to heal the body; how to create more prosperity; how to open to love; how to find meaning and purpose in life … and more. The focus of this class is on how to apply and demonstration of Truth principles to overcome our pressing human problems and create greater level of health\, prosperity\, and joy in our lives. \nRequired Text: How to Let God Help You by Myrtle Fillmore. Available through our Divine Idea Books & Gifts store upon request; call 602.978.3337 or email Julia Kellogg.
URL:https://unityphx.org/events/how-to-let-god-help-you/2025-03-04/
LOCATION:Unity of Phoenix Spiritual Center\, 1500 E Greenway Parkway\, Phoenix\, AZ\, 85022-2725\, United States
CATEGORIES:Classes,In Person,SEE Classes
ATTACH;FMTTYPE=image/jpeg:https://unityphx.org/wp-content/uploads/2025/01/How-to-Let-God-Help-You.jpg
GEO:33.6384339;-112.0493411
X-APPLE-STRUCTURED-LOCATION;VALUE=URI;X-ADDRESS=Unity of Phoenix Spiritual Center 1500 E Greenway Parkway Phoenix AZ 85022-2725 United States;X-APPLE-RADIUS=500;X-TITLE=1500 E Greenway Parkway:geo:-112.0493411,33.6384339
END:VEVENT
BEGIN:VEVENT
DTSTART;TZID=America/Phoenix:20250311T190000
DTEND;TZID=America/Phoenix:20250311T203000
DTSTAMP:20260425T162122
CREATED:20250113T080357Z
LAST-MODIFIED:20250220T024736Z
UID:10002305-1741719600-1741725000@unityphx.org
SUMMARY:How to Let God Help You
DESCRIPTION:In this class we will take a deep dive into the wisdom and the teachings of Myrtle Fillmore: how to heal the body; how to create more prosperity; how to open to love; how to find meaning and purpose in life … and more. The focus of this class is on how to apply and demonstration of Truth principles to overcome our pressing human problems and create greater level of health\, prosperity\, and joy in our lives. \nRequired Text: How to Let God Help You by Myrtle Fillmore. Available through our Divine Idea Books & Gifts store upon request; call 602.978.3337 or email Julia Kellogg.
URL:https://unityphx.org/events/how-to-let-god-help-you/2025-03-11/
LOCATION:Unity of Phoenix Spiritual Center\, 1500 E Greenway Parkway\, Phoenix\, AZ\, 85022-2725\, United States
CATEGORIES:Classes,In Person,SEE Classes
ATTACH;FMTTYPE=image/jpeg:https://unityphx.org/wp-content/uploads/2025/01/How-to-Let-God-Help-You.jpg
GEO:33.6384339;-112.0493411
X-APPLE-STRUCTURED-LOCATION;VALUE=URI;X-ADDRESS=Unity of Phoenix Spiritual Center 1500 E Greenway Parkway Phoenix AZ 85022-2725 United States;X-APPLE-RADIUS=500;X-TITLE=1500 E Greenway Parkway:geo:-112.0493411,33.6384339
END:VEVENT
BEGIN:VEVENT
DTSTART;TZID=America/Phoenix:20250318T190000
DTEND;TZID=America/Phoenix:20250318T203000
DTSTAMP:20260425T162122
CREATED:20250113T080357Z
LAST-MODIFIED:20250220T024736Z
UID:10002306-1742324400-1742329800@unityphx.org
SUMMARY:How to Let God Help You
DESCRIPTION:In this class we will take a deep dive into the wisdom and the teachings of Myrtle Fillmore: how to heal the body; how to create more prosperity; how to open to love; how to find meaning and purpose in life … and more. The focus of this class is on how to apply and demonstration of Truth principles to overcome our pressing human problems and create greater level of health\, prosperity\, and joy in our lives. \nRequired Text: How to Let God Help You by Myrtle Fillmore. Available through our Divine Idea Books & Gifts store upon request; call 602.978.3337 or email Julia Kellogg.
URL:https://unityphx.org/events/how-to-let-god-help-you/2025-03-18/
LOCATION:Unity of Phoenix Spiritual Center\, 1500 E Greenway Parkway\, Phoenix\, AZ\, 85022-2725\, United States
CATEGORIES:Classes,In Person,SEE Classes
ATTACH;FMTTYPE=image/jpeg:https://unityphx.org/wp-content/uploads/2025/01/How-to-Let-God-Help-You.jpg
GEO:33.6384339;-112.0493411
X-APPLE-STRUCTURED-LOCATION;VALUE=URI;X-ADDRESS=Unity of Phoenix Spiritual Center 1500 E Greenway Parkway Phoenix AZ 85022-2725 United States;X-APPLE-RADIUS=500;X-TITLE=1500 E Greenway Parkway:geo:-112.0493411,33.6384339
END:VEVENT
BEGIN:VEVENT
DTSTART;TZID=America/Phoenix:20250325T190000
DTEND;TZID=America/Phoenix:20250325T203000
DTSTAMP:20260425T162122
CREATED:20250113T080357Z
LAST-MODIFIED:20250220T024736Z
UID:10002307-1742929200-1742934600@unityphx.org
SUMMARY:How to Let God Help You
DESCRIPTION:In this class we will take a deep dive into the wisdom and the teachings of Myrtle Fillmore: how to heal the body; how to create more prosperity; how to open to love; how to find meaning and purpose in life … and more. The focus of this class is on how to apply and demonstration of Truth principles to overcome our pressing human problems and create greater level of health\, prosperity\, and joy in our lives. \nRequired Text: How to Let God Help You by Myrtle Fillmore. Available through our Divine Idea Books & Gifts store upon request; call 602.978.3337 or email Julia Kellogg.
URL:https://unityphx.org/events/how-to-let-god-help-you/2025-03-25/
LOCATION:Unity of Phoenix Spiritual Center\, 1500 E Greenway Parkway\, Phoenix\, AZ\, 85022-2725\, United States
CATEGORIES:Classes,In Person,SEE Classes
ATTACH;FMTTYPE=image/jpeg:https://unityphx.org/wp-content/uploads/2025/01/How-to-Let-God-Help-You.jpg
GEO:33.6384339;-112.0493411
X-APPLE-STRUCTURED-LOCATION;VALUE=URI;X-ADDRESS=Unity of Phoenix Spiritual Center 1500 E Greenway Parkway Phoenix AZ 85022-2725 United States;X-APPLE-RADIUS=500;X-TITLE=1500 E Greenway Parkway:geo:-112.0493411,33.6384339
END:VEVENT
END:VCALENDAR