BEGIN:VCALENDAR
VERSION:2.0
PRODID:-//Unity of Phoenix Spiritual Center - ECPv6.15.20//NONSGML v1.0//EN
CALSCALE:GREGORIAN
METHOD:PUBLISH
X-WR-CALNAME:Unity of Phoenix Spiritual Center
X-ORIGINAL-URL:https://unityphx.org
X-WR-CALDESC:Events for Unity of Phoenix Spiritual Center
REFRESH-INTERVAL;VALUE=DURATION:PT1H
X-Robots-Tag:noindex
X-PUBLISHED-TTL:PT1H
BEGIN:VTIMEZONE
TZID:America/Phoenix
BEGIN:STANDARD
TZOFFSETFROM:-0700
TZOFFSETTO:-0700
TZNAME:MST
DTSTART:20240101T000000
END:STANDARD
END:VTIMEZONE
BEGIN:VEVENT
DTSTART;TZID=America/Phoenix:20250202T123000
DTEND;TZID=America/Phoenix:20250202T143000
DTSTAMP:20260425T174911
CREATED:20241219T222721Z
LAST-MODIFIED:20241219T222721Z
UID:10002294-1738499400-1738506600@unityphx.org
SUMMARY:Understanding and Healing Your Grief - 7-Week Grief Workshop
DESCRIPTION:The $105 fee covers all seven sessions.\nIf you are experiencing unresolved grief\, this workshop is one way to help resolve it. The six-week workshop combines bereavement education and spiritual support for people experiencing grief from a personal loss. \nIt is important to have a desire for a greater understanding of your grief and a willingness to personally work and move through the grief process toward peace and healing. Together we will create a sacred space for healing\, while honoring confidentiality\, in order to provide a safe environment for the sharing of personal feelings and concerns.  There will also be time for questions\, and guidance toward answers. \nRequired Text: Understanding Your Grief: Ten Essential Touchstones for Finding Hope and Healing your Heart and The Understanding Your Grief Journal\, both by by Alan D Wolfelt\, Ph.D.  Available through our Divine Idea Books & Gifts store upon request; call 602.978.3337 or email Julia Kellogg.
URL:https://unityphx.org/events/understanding-and-healing-your-grief-7-week-grief-workshop-4/2025-02-02/
LOCATION:Unity of Phoenix Spiritual Center\, 1500 E Greenway Parkway\, Phoenix\, AZ\, 85022-2725\, United States
CATEGORIES:Classes,In Person
ATTACH;FMTTYPE=image/jpeg:https://unityphx.org/wp-content/uploads/2024/12/7-Week-Grief-Workshop.jpg
ORGANIZER;CN="Joan Bacchus%2C RN%2C LUT%2C Bereavement Specialist":MAILTO:jbhealinghands2@gmail.com
GEO:33.6384339;-112.0493411
X-APPLE-STRUCTURED-LOCATION;VALUE=URI;X-ADDRESS=Unity of Phoenix Spiritual Center 1500 E Greenway Parkway Phoenix AZ 85022-2725 United States;X-APPLE-RADIUS=500;X-TITLE=1500 E Greenway Parkway:geo:-112.0493411,33.6384339
END:VEVENT
BEGIN:VEVENT
DTSTART;TZID=America/Phoenix:20250204T183000
DTEND;TZID=America/Phoenix:20250204T203000
DTSTAMP:20260425T174911
CREATED:20241219T223530Z
LAST-MODIFIED:20241231T202607Z
UID:10002288-1738693800-1738701000@unityphx.org
SUMMARY:Meditation Practices
DESCRIPTION:The $60 ticket fee covers all four sessions\nJoin Rev. Stacy Macris Ros as she introduces you to the many ways to meditate. Just in time for the new year\, mindfulness practices will help keep you centered during hectic schedules and when life throws curveballs. During our four weeks together\, you will brainstorm ways to create a regular meditation practice and immerse yourself in different forms of meditation so you can choose the best ones for you. You’ll will walk away with a deeper understanding of the benefits of meditation and a spiritual toolkit! \nRequired Text: Meditation for Dummies (available for purchase in the Divine Idea Bookstore)
URL:https://unityphx.org/events/meditation-practices/2025-02-04/
LOCATION:Unity of Phoenix Spiritual Center\, 1500 E Greenway Parkway\, Phoenix\, AZ\, 85022-2725\, United States
CATEGORIES:Classes,In Person,Meditation
ATTACH;FMTTYPE=image/jpeg:https://unityphx.org/wp-content/uploads/2024/12/Meditation-Practices.jpg
ORGANIZER;CN="Rev. Stacy Macris Ros":MAILTO:smacrisros@unityphx.org
GEO:33.6384339;-112.0493411
X-APPLE-STRUCTURED-LOCATION;VALUE=URI;X-ADDRESS=Unity of Phoenix Spiritual Center 1500 E Greenway Parkway Phoenix AZ 85022-2725 United States;X-APPLE-RADIUS=500;X-TITLE=1500 E Greenway Parkway:geo:-112.0493411,33.6384339
END:VEVENT
BEGIN:VEVENT
DTSTART;TZID=America/Phoenix:20250209T123000
DTEND;TZID=America/Phoenix:20250209T143000
DTSTAMP:20260425T174911
CREATED:20241219T222721Z
LAST-MODIFIED:20241219T222721Z
UID:10002295-1739104200-1739111400@unityphx.org
SUMMARY:Understanding and Healing Your Grief - 7-Week Grief Workshop
DESCRIPTION:The $105 fee covers all seven sessions.\nIf you are experiencing unresolved grief\, this workshop is one way to help resolve it. The six-week workshop combines bereavement education and spiritual support for people experiencing grief from a personal loss. \nIt is important to have a desire for a greater understanding of your grief and a willingness to personally work and move through the grief process toward peace and healing. Together we will create a sacred space for healing\, while honoring confidentiality\, in order to provide a safe environment for the sharing of personal feelings and concerns.  There will also be time for questions\, and guidance toward answers. \nRequired Text: Understanding Your Grief: Ten Essential Touchstones for Finding Hope and Healing your Heart and The Understanding Your Grief Journal\, both by by Alan D Wolfelt\, Ph.D.  Available through our Divine Idea Books & Gifts store upon request; call 602.978.3337 or email Julia Kellogg.
URL:https://unityphx.org/events/understanding-and-healing-your-grief-7-week-grief-workshop-4/2025-02-09/
LOCATION:Unity of Phoenix Spiritual Center\, 1500 E Greenway Parkway\, Phoenix\, AZ\, 85022-2725\, United States
CATEGORIES:Classes,In Person
ATTACH;FMTTYPE=image/jpeg:https://unityphx.org/wp-content/uploads/2024/12/7-Week-Grief-Workshop.jpg
ORGANIZER;CN="Joan Bacchus%2C RN%2C LUT%2C Bereavement Specialist":MAILTO:jbhealinghands2@gmail.com
GEO:33.6384339;-112.0493411
X-APPLE-STRUCTURED-LOCATION;VALUE=URI;X-ADDRESS=Unity of Phoenix Spiritual Center 1500 E Greenway Parkway Phoenix AZ 85022-2725 United States;X-APPLE-RADIUS=500;X-TITLE=1500 E Greenway Parkway:geo:-112.0493411,33.6384339
END:VEVENT
BEGIN:VEVENT
DTSTART;TZID=America/Phoenix:20250209T123000
DTEND;TZID=America/Phoenix:20250209T163000
DTSTAMP:20260425T174911
CREATED:20241219T234147Z
LAST-MODIFIED:20241219T234147Z
UID:10002285-1739104200-1739118600@unityphx.org
SUMMARY:Spiritual Tools and Mental Health
DESCRIPTION:The exact areas of our brains that are engaged and strengthened during times of spiritual practice are the same areas that wither in the experience of depression. Interestingly\, scientific research has shown that having a spiritual life protects us from mental illness! \nThis experiential workshop will explore how our connection with Spirit uplifts\, nourishes\, and supports us in maintaining our mental health. Participants will discover their innate wisdom\, connect to inner peace\, and create a plan of spiritual practices to nurture their deepening spirituality to support their mental health.
URL:https://unityphx.org/events/spiritual-tools-and-mental-health/
LOCATION:Unity of Phoenix Spiritual Center\, 1500 E Greenway Parkway\, Phoenix\, AZ\, 85022-2725\, United States
CATEGORIES:Classes,In Person
ATTACH;FMTTYPE=image/jpeg:https://unityphx.org/wp-content/uploads/2024/12/Spiritual-Tools-and-Mental-Health.jpg
GEO:33.6384339;-112.0493411
X-APPLE-STRUCTURED-LOCATION;VALUE=URI;X-ADDRESS=Unity of Phoenix Spiritual Center 1500 E Greenway Parkway Phoenix AZ 85022-2725 United States;X-APPLE-RADIUS=500;X-TITLE=1500 E Greenway Parkway:geo:-112.0493411,33.6384339
END:VEVENT
BEGIN:VEVENT
DTSTART;TZID=America/Phoenix:20250211T183000
DTEND;TZID=America/Phoenix:20250211T203000
DTSTAMP:20260425T174911
CREATED:20241219T223530Z
LAST-MODIFIED:20241231T202607Z
UID:10002289-1739298600-1739305800@unityphx.org
SUMMARY:Meditation Practices
DESCRIPTION:The $60 ticket fee covers all four sessions\nJoin Rev. Stacy Macris Ros as she introduces you to the many ways to meditate. Just in time for the new year\, mindfulness practices will help keep you centered during hectic schedules and when life throws curveballs. During our four weeks together\, you will brainstorm ways to create a regular meditation practice and immerse yourself in different forms of meditation so you can choose the best ones for you. You’ll will walk away with a deeper understanding of the benefits of meditation and a spiritual toolkit! \nRequired Text: Meditation for Dummies (available for purchase in the Divine Idea Bookstore)
URL:https://unityphx.org/events/meditation-practices/2025-02-11/
LOCATION:Unity of Phoenix Spiritual Center\, 1500 E Greenway Parkway\, Phoenix\, AZ\, 85022-2725\, United States
CATEGORIES:Classes,In Person,Meditation
ATTACH;FMTTYPE=image/jpeg:https://unityphx.org/wp-content/uploads/2024/12/Meditation-Practices.jpg
ORGANIZER;CN="Rev. Stacy Macris Ros":MAILTO:smacrisros@unityphx.org
GEO:33.6384339;-112.0493411
X-APPLE-STRUCTURED-LOCATION;VALUE=URI;X-ADDRESS=Unity of Phoenix Spiritual Center 1500 E Greenway Parkway Phoenix AZ 85022-2725 United States;X-APPLE-RADIUS=500;X-TITLE=1500 E Greenway Parkway:geo:-112.0493411,33.6384339
END:VEVENT
BEGIN:VEVENT
DTSTART;TZID=America/Phoenix:20250216T123000
DTEND;TZID=America/Phoenix:20250216T143000
DTSTAMP:20260425T174911
CREATED:20241219T222721Z
LAST-MODIFIED:20241219T222721Z
UID:10002296-1739709000-1739716200@unityphx.org
SUMMARY:Understanding and Healing Your Grief - 7-Week Grief Workshop
DESCRIPTION:The $105 fee covers all seven sessions.\nIf you are experiencing unresolved grief\, this workshop is one way to help resolve it. The six-week workshop combines bereavement education and spiritual support for people experiencing grief from a personal loss. \nIt is important to have a desire for a greater understanding of your grief and a willingness to personally work and move through the grief process toward peace and healing. Together we will create a sacred space for healing\, while honoring confidentiality\, in order to provide a safe environment for the sharing of personal feelings and concerns.  There will also be time for questions\, and guidance toward answers. \nRequired Text: Understanding Your Grief: Ten Essential Touchstones for Finding Hope and Healing your Heart and The Understanding Your Grief Journal\, both by by Alan D Wolfelt\, Ph.D.  Available through our Divine Idea Books & Gifts store upon request; call 602.978.3337 or email Julia Kellogg.
URL:https://unityphx.org/events/understanding-and-healing-your-grief-7-week-grief-workshop-4/2025-02-16/
LOCATION:Unity of Phoenix Spiritual Center\, 1500 E Greenway Parkway\, Phoenix\, AZ\, 85022-2725\, United States
CATEGORIES:Classes,In Person
ATTACH;FMTTYPE=image/jpeg:https://unityphx.org/wp-content/uploads/2024/12/7-Week-Grief-Workshop.jpg
ORGANIZER;CN="Joan Bacchus%2C RN%2C LUT%2C Bereavement Specialist":MAILTO:jbhealinghands2@gmail.com
GEO:33.6384339;-112.0493411
X-APPLE-STRUCTURED-LOCATION;VALUE=URI;X-ADDRESS=Unity of Phoenix Spiritual Center 1500 E Greenway Parkway Phoenix AZ 85022-2725 United States;X-APPLE-RADIUS=500;X-TITLE=1500 E Greenway Parkway:geo:-112.0493411,33.6384339
END:VEVENT
BEGIN:VEVENT
DTSTART;TZID=America/Phoenix:20250223T123000
DTEND;TZID=America/Phoenix:20250223T143000
DTSTAMP:20260425T174911
CREATED:20241219T222721Z
LAST-MODIFIED:20241219T222721Z
UID:10002297-1740313800-1740321000@unityphx.org
SUMMARY:Understanding and Healing Your Grief - 7-Week Grief Workshop
DESCRIPTION:The $105 fee covers all seven sessions.\nIf you are experiencing unresolved grief\, this workshop is one way to help resolve it. The six-week workshop combines bereavement education and spiritual support for people experiencing grief from a personal loss. \nIt is important to have a desire for a greater understanding of your grief and a willingness to personally work and move through the grief process toward peace and healing. Together we will create a sacred space for healing\, while honoring confidentiality\, in order to provide a safe environment for the sharing of personal feelings and concerns.  There will also be time for questions\, and guidance toward answers. \nRequired Text: Understanding Your Grief: Ten Essential Touchstones for Finding Hope and Healing your Heart and The Understanding Your Grief Journal\, both by by Alan D Wolfelt\, Ph.D.  Available through our Divine Idea Books & Gifts store upon request; call 602.978.3337 or email Julia Kellogg.
URL:https://unityphx.org/events/understanding-and-healing-your-grief-7-week-grief-workshop-4/2025-02-23/
LOCATION:Unity of Phoenix Spiritual Center\, 1500 E Greenway Parkway\, Phoenix\, AZ\, 85022-2725\, United States
CATEGORIES:Classes,In Person
ATTACH;FMTTYPE=image/jpeg:https://unityphx.org/wp-content/uploads/2024/12/7-Week-Grief-Workshop.jpg
ORGANIZER;CN="Joan Bacchus%2C RN%2C LUT%2C Bereavement Specialist":MAILTO:jbhealinghands2@gmail.com
GEO:33.6384339;-112.0493411
X-APPLE-STRUCTURED-LOCATION;VALUE=URI;X-ADDRESS=Unity of Phoenix Spiritual Center 1500 E Greenway Parkway Phoenix AZ 85022-2725 United States;X-APPLE-RADIUS=500;X-TITLE=1500 E Greenway Parkway:geo:-112.0493411,33.6384339
END:VEVENT
BEGIN:VEVENT
DTSTART;TZID=America/Phoenix:20250225T190000
DTEND;TZID=America/Phoenix:20250225T203000
DTSTAMP:20260425T174911
CREATED:20250113T080357Z
LAST-MODIFIED:20250220T024736Z
UID:10002303-1740510000-1740515400@unityphx.org
SUMMARY:How to Let God Help You
DESCRIPTION:In this class we will take a deep dive into the wisdom and the teachings of Myrtle Fillmore: how to heal the body; how to create more prosperity; how to open to love; how to find meaning and purpose in life … and more. The focus of this class is on how to apply and demonstration of Truth principles to overcome our pressing human problems and create greater level of health\, prosperity\, and joy in our lives. \nRequired Text: How to Let God Help You by Myrtle Fillmore. Available through our Divine Idea Books & Gifts store upon request; call 602.978.3337 or email Julia Kellogg.
URL:https://unityphx.org/events/how-to-let-god-help-you/2025-02-25/
LOCATION:Unity of Phoenix Spiritual Center\, 1500 E Greenway Parkway\, Phoenix\, AZ\, 85022-2725\, United States
CATEGORIES:Classes,In Person,SEE Classes
ATTACH;FMTTYPE=image/jpeg:https://unityphx.org/wp-content/uploads/2025/01/How-to-Let-God-Help-You.jpg
GEO:33.6384339;-112.0493411
X-APPLE-STRUCTURED-LOCATION;VALUE=URI;X-ADDRESS=Unity of Phoenix Spiritual Center 1500 E Greenway Parkway Phoenix AZ 85022-2725 United States;X-APPLE-RADIUS=500;X-TITLE=1500 E Greenway Parkway:geo:-112.0493411,33.6384339
END:VEVENT
END:VCALENDAR