BEGIN:VCALENDAR
VERSION:2.0
PRODID:-//Unity of Phoenix Spiritual Center - ECPv6.15.20//NONSGML v1.0//EN
CALSCALE:GREGORIAN
METHOD:PUBLISH
X-ORIGINAL-URL:https://unityphx.org
X-WR-CALDESC:Events for Unity of Phoenix Spiritual Center
REFRESH-INTERVAL;VALUE=DURATION:PT1H
X-Robots-Tag:noindex
X-PUBLISHED-TTL:PT1H
BEGIN:VTIMEZONE
TZID:America/Phoenix
BEGIN:STANDARD
TZOFFSETFROM:-0700
TZOFFSETTO:-0700
TZNAME:MST
DTSTART:20240101T000000
END:STANDARD
END:VTIMEZONE
BEGIN:VEVENT
DTSTART;TZID=America/Phoenix:20250105T123000
DTEND;TZID=America/Phoenix:20250105T143000
DTSTAMP:20260425T191144
CREATED:20241219T222217Z
LAST-MODIFIED:20241219T222217Z
UID:10002270-1736080200-1736087400@unityphx.org
SUMMARY:Understanding and Healing Your Grief - FREE Introductory Class
DESCRIPTION:Register for this FREE Introductory class\, which provides an overview of the scope and curriculum of the 7-week grief workshop\, “Understanding and Healing Your Grief.” Afterward\, if you believe the workshop is right for you\, there will be an opportunity to register for the full Workshop.
URL:https://unityphx.org/events/understanding-and-healing-your-grief-free-introductory-class-4/
LOCATION:Unity of Phoenix Spiritual Center\, 1500 E Greenway Parkway\, Phoenix\, AZ\, 85022-2725\, United States
CATEGORIES:Classes,In Person
ATTACH;FMTTYPE=image/jpeg:https://unityphx.org/wp-content/uploads/2024/12/Introductory-Workshop-January-2025.jpg
ORGANIZER;CN="Joan Bacchus%2C RN%2C LUT%2C Bereavement Specialist":MAILTO:jbhealinghands2@gmail.com
GEO:33.6384339;-112.0493411
X-APPLE-STRUCTURED-LOCATION;VALUE=URI;X-ADDRESS=Unity of Phoenix Spiritual Center 1500 E Greenway Parkway Phoenix AZ 85022-2725 United States;X-APPLE-RADIUS=500;X-TITLE=1500 E Greenway Parkway:geo:-112.0493411,33.6384339
END:VEVENT
BEGIN:VEVENT
DTSTART;TZID=America/Phoenix:20250107T190000
DTEND;TZID=America/Phoenix:20250107T203000
DTSTAMP:20260425T191144
CREATED:20241219T223105Z
LAST-MODIFIED:20241230T223019Z
UID:10002290-1736276400-1736281800@unityphx.org
SUMMARY:Say 'YES!' to Life!
DESCRIPTION:Say ‘YES!’ to your best self and your best life! Learn to open yourself to your dreams and to the love\, beauty and fullness of life that you have been denying yourself.
URL:https://unityphx.org/events/say-yes-to-life-3/
LOCATION:Unity of Phoenix Spiritual Center\, 1500 E Greenway Parkway\, Phoenix\, AZ\, 85022-2725\, United States
CATEGORIES:Classes,In Person
ATTACH;FMTTYPE=image/jpeg:https://unityphx.org/wp-content/uploads/2024/12/Say-YES-to-Life-Maraj.jpg
GEO:33.6384339;-112.0493411
X-APPLE-STRUCTURED-LOCATION;VALUE=URI;X-ADDRESS=Unity of Phoenix Spiritual Center 1500 E Greenway Parkway Phoenix AZ 85022-2725 United States;X-APPLE-RADIUS=500;X-TITLE=1500 E Greenway Parkway:geo:-112.0493411,33.6384339
END:VEVENT
BEGIN:VEVENT
DTSTART;TZID=America/Phoenix:20250112T123000
DTEND;TZID=America/Phoenix:20250112T143000
DTSTAMP:20260425T191144
CREATED:20241219T222721Z
LAST-MODIFIED:20241219T222721Z
UID:10002291-1736685000-1736692200@unityphx.org
SUMMARY:Understanding and Healing Your Grief - 7-Week Grief Workshop
DESCRIPTION:The $105 fee covers all seven sessions.\nIf you are experiencing unresolved grief\, this workshop is one way to help resolve it. The six-week workshop combines bereavement education and spiritual support for people experiencing grief from a personal loss. \nIt is important to have a desire for a greater understanding of your grief and a willingness to personally work and move through the grief process toward peace and healing. Together we will create a sacred space for healing\, while honoring confidentiality\, in order to provide a safe environment for the sharing of personal feelings and concerns.  There will also be time for questions\, and guidance toward answers. \nRequired Text: Understanding Your Grief: Ten Essential Touchstones for Finding Hope and Healing your Heart and The Understanding Your Grief Journal\, both by by Alan D Wolfelt\, Ph.D.  Available through our Divine Idea Books & Gifts store upon request; call 602.978.3337 or email Julia Kellogg.
URL:https://unityphx.org/events/understanding-and-healing-your-grief-7-week-grief-workshop-4/2025-01-12/
LOCATION:Unity of Phoenix Spiritual Center\, 1500 E Greenway Parkway\, Phoenix\, AZ\, 85022-2725\, United States
CATEGORIES:Classes,In Person
ATTACH;FMTTYPE=image/jpeg:https://unityphx.org/wp-content/uploads/2024/12/7-Week-Grief-Workshop.jpg
ORGANIZER;CN="Joan Bacchus%2C RN%2C LUT%2C Bereavement Specialist":MAILTO:jbhealinghands2@gmail.com
GEO:33.6384339;-112.0493411
X-APPLE-STRUCTURED-LOCATION;VALUE=URI;X-ADDRESS=Unity of Phoenix Spiritual Center 1500 E Greenway Parkway Phoenix AZ 85022-2725 United States;X-APPLE-RADIUS=500;X-TITLE=1500 E Greenway Parkway:geo:-112.0493411,33.6384339
END:VEVENT
BEGIN:VEVENT
DTSTART;TZID=America/Phoenix:20250119T123000
DTEND;TZID=America/Phoenix:20250119T143000
DTSTAMP:20260425T191144
CREATED:20241219T222721Z
LAST-MODIFIED:20241219T222721Z
UID:10002292-1737289800-1737297000@unityphx.org
SUMMARY:Understanding and Healing Your Grief - 7-Week Grief Workshop
DESCRIPTION:The $105 fee covers all seven sessions.\nIf you are experiencing unresolved grief\, this workshop is one way to help resolve it. The six-week workshop combines bereavement education and spiritual support for people experiencing grief from a personal loss. \nIt is important to have a desire for a greater understanding of your grief and a willingness to personally work and move through the grief process toward peace and healing. Together we will create a sacred space for healing\, while honoring confidentiality\, in order to provide a safe environment for the sharing of personal feelings and concerns.  There will also be time for questions\, and guidance toward answers. \nRequired Text: Understanding Your Grief: Ten Essential Touchstones for Finding Hope and Healing your Heart and The Understanding Your Grief Journal\, both by by Alan D Wolfelt\, Ph.D.  Available through our Divine Idea Books & Gifts store upon request; call 602.978.3337 or email Julia Kellogg.
URL:https://unityphx.org/events/understanding-and-healing-your-grief-7-week-grief-workshop-4/2025-01-19/
LOCATION:Unity of Phoenix Spiritual Center\, 1500 E Greenway Parkway\, Phoenix\, AZ\, 85022-2725\, United States
CATEGORIES:Classes,In Person
ATTACH;FMTTYPE=image/jpeg:https://unityphx.org/wp-content/uploads/2024/12/7-Week-Grief-Workshop.jpg
ORGANIZER;CN="Joan Bacchus%2C RN%2C LUT%2C Bereavement Specialist":MAILTO:jbhealinghands2@gmail.com
GEO:33.6384339;-112.0493411
X-APPLE-STRUCTURED-LOCATION;VALUE=URI;X-ADDRESS=Unity of Phoenix Spiritual Center 1500 E Greenway Parkway Phoenix AZ 85022-2725 United States;X-APPLE-RADIUS=500;X-TITLE=1500 E Greenway Parkway:geo:-112.0493411,33.6384339
END:VEVENT
BEGIN:VEVENT
DTSTART;TZID=America/Phoenix:20250121T183000
DTEND;TZID=America/Phoenix:20250121T203000
DTSTAMP:20260425T191144
CREATED:20241219T223530Z
LAST-MODIFIED:20241231T202607Z
UID:10002286-1737484200-1737491400@unityphx.org
SUMMARY:Meditation Practices
DESCRIPTION:The $60 ticket fee covers all four sessions\nJoin Rev. Stacy Macris Ros as she introduces you to the many ways to meditate. Just in time for the new year\, mindfulness practices will help keep you centered during hectic schedules and when life throws curveballs. During our four weeks together\, you will brainstorm ways to create a regular meditation practice and immerse yourself in different forms of meditation so you can choose the best ones for you. You’ll will walk away with a deeper understanding of the benefits of meditation and a spiritual toolkit! \nRequired Text: Meditation for Dummies (available for purchase in the Divine Idea Bookstore)
URL:https://unityphx.org/events/meditation-practices/2025-01-21/
LOCATION:Unity of Phoenix Spiritual Center\, 1500 E Greenway Parkway\, Phoenix\, AZ\, 85022-2725\, United States
CATEGORIES:Classes,In Person,Meditation
ATTACH;FMTTYPE=image/jpeg:https://unityphx.org/wp-content/uploads/2024/12/Meditation-Practices.jpg
ORGANIZER;CN="Rev. Stacy Macris Ros":MAILTO:smacrisros@unityphx.org
GEO:33.6384339;-112.0493411
X-APPLE-STRUCTURED-LOCATION;VALUE=URI;X-ADDRESS=Unity of Phoenix Spiritual Center 1500 E Greenway Parkway Phoenix AZ 85022-2725 United States;X-APPLE-RADIUS=500;X-TITLE=1500 E Greenway Parkway:geo:-112.0493411,33.6384339
END:VEVENT
BEGIN:VEVENT
DTSTART;TZID=America/Phoenix:20250126T123000
DTEND;TZID=America/Phoenix:20250126T143000
DTSTAMP:20260425T191144
CREATED:20241219T222721Z
LAST-MODIFIED:20241219T222721Z
UID:10002293-1737894600-1737901800@unityphx.org
SUMMARY:Understanding and Healing Your Grief - 7-Week Grief Workshop
DESCRIPTION:The $105 fee covers all seven sessions.\nIf you are experiencing unresolved grief\, this workshop is one way to help resolve it. The six-week workshop combines bereavement education and spiritual support for people experiencing grief from a personal loss. \nIt is important to have a desire for a greater understanding of your grief and a willingness to personally work and move through the grief process toward peace and healing. Together we will create a sacred space for healing\, while honoring confidentiality\, in order to provide a safe environment for the sharing of personal feelings and concerns.  There will also be time for questions\, and guidance toward answers. \nRequired Text: Understanding Your Grief: Ten Essential Touchstones for Finding Hope and Healing your Heart and The Understanding Your Grief Journal\, both by by Alan D Wolfelt\, Ph.D.  Available through our Divine Idea Books & Gifts store upon request; call 602.978.3337 or email Julia Kellogg.
URL:https://unityphx.org/events/understanding-and-healing-your-grief-7-week-grief-workshop-4/2025-01-26/
LOCATION:Unity of Phoenix Spiritual Center\, 1500 E Greenway Parkway\, Phoenix\, AZ\, 85022-2725\, United States
CATEGORIES:Classes,In Person
ATTACH;FMTTYPE=image/jpeg:https://unityphx.org/wp-content/uploads/2024/12/7-Week-Grief-Workshop.jpg
ORGANIZER;CN="Joan Bacchus%2C RN%2C LUT%2C Bereavement Specialist":MAILTO:jbhealinghands2@gmail.com
GEO:33.6384339;-112.0493411
X-APPLE-STRUCTURED-LOCATION;VALUE=URI;X-ADDRESS=Unity of Phoenix Spiritual Center 1500 E Greenway Parkway Phoenix AZ 85022-2725 United States;X-APPLE-RADIUS=500;X-TITLE=1500 E Greenway Parkway:geo:-112.0493411,33.6384339
END:VEVENT
BEGIN:VEVENT
DTSTART;TZID=America/Phoenix:20250128T183000
DTEND;TZID=America/Phoenix:20250128T203000
DTSTAMP:20260425T191144
CREATED:20241219T223530Z
LAST-MODIFIED:20241231T202607Z
UID:10002287-1738089000-1738096200@unityphx.org
SUMMARY:Meditation Practices
DESCRIPTION:The $60 ticket fee covers all four sessions\nJoin Rev. Stacy Macris Ros as she introduces you to the many ways to meditate. Just in time for the new year\, mindfulness practices will help keep you centered during hectic schedules and when life throws curveballs. During our four weeks together\, you will brainstorm ways to create a regular meditation practice and immerse yourself in different forms of meditation so you can choose the best ones for you. You’ll will walk away with a deeper understanding of the benefits of meditation and a spiritual toolkit! \nRequired Text: Meditation for Dummies (available for purchase in the Divine Idea Bookstore)
URL:https://unityphx.org/events/meditation-practices/2025-01-28/
LOCATION:Unity of Phoenix Spiritual Center\, 1500 E Greenway Parkway\, Phoenix\, AZ\, 85022-2725\, United States
CATEGORIES:Classes,In Person,Meditation
ATTACH;FMTTYPE=image/jpeg:https://unityphx.org/wp-content/uploads/2024/12/Meditation-Practices.jpg
ORGANIZER;CN="Rev. Stacy Macris Ros":MAILTO:smacrisros@unityphx.org
GEO:33.6384339;-112.0493411
X-APPLE-STRUCTURED-LOCATION;VALUE=URI;X-ADDRESS=Unity of Phoenix Spiritual Center 1500 E Greenway Parkway Phoenix AZ 85022-2725 United States;X-APPLE-RADIUS=500;X-TITLE=1500 E Greenway Parkway:geo:-112.0493411,33.6384339
END:VEVENT
END:VCALENDAR